BEGIN:VCALENDAR
VERSION:2.0
PRODID:-//Bear Arms Training - ECPv6.15.20//NONSGML v1.0//EN
CALSCALE:GREGORIAN
METHOD:PUBLISH
X-ORIGINAL-URL:https://beararmstraining.com
X-WR-CALDESC:Events for Bear Arms Training
REFRESH-INTERVAL;VALUE=DURATION:PT1H
X-Robots-Tag:noindex
X-PUBLISHED-TTL:PT1H
BEGIN:VTIMEZONE
TZID:America/New_York
BEGIN:DAYLIGHT
TZOFFSETFROM:-0500
TZOFFSETTO:-0400
TZNAME:EDT
DTSTART:20210314T070000
END:DAYLIGHT
BEGIN:STANDARD
TZOFFSETFROM:-0400
TZOFFSETTO:-0500
TZNAME:EST
DTSTART:20211107T060000
END:STANDARD
BEGIN:DAYLIGHT
TZOFFSETFROM:-0500
TZOFFSETTO:-0400
TZNAME:EDT
DTSTART:20220313T070000
END:DAYLIGHT
BEGIN:STANDARD
TZOFFSETFROM:-0400
TZOFFSETTO:-0500
TZNAME:EST
DTSTART:20221106T060000
END:STANDARD
BEGIN:DAYLIGHT
TZOFFSETFROM:-0500
TZOFFSETTO:-0400
TZNAME:EDT
DTSTART:20230312T070000
END:DAYLIGHT
BEGIN:STANDARD
TZOFFSETFROM:-0400
TZOFFSETTO:-0500
TZNAME:EST
DTSTART:20231105T060000
END:STANDARD
END:VTIMEZONE
BEGIN:VEVENT
DTSTART;TZID=America/New_York:20221217T080000
DTEND;TZID=America/New_York:20221217T133000
DTSTAMP:20260424T163249
CREATED:20220612T175058Z
LAST-MODIFIED:20220612T195653Z
UID:10000109-1671264000-1671283800@beararmstraining.com
SUMMARY:Pistol Fundamentals - December 17\, 2022
DESCRIPTION:We offer our Pistol Fundamentals Course with and without live fire. Please make note of which course you are signing up for when you purcahse your tickets below. \nTICKET OPTION 1; Pistol Fundamentals Course\nFound within our pistol fundamental course\, the student has two options. The first option (Pistol Fundamentals) is a 2-hour introductory class designed for the novice or inexperienced shooter. In this course\, the student will build a foundation for firearm safety and knowledge. This course is for you whether you’re brand-new to firearms or looking to feel comfortable around firearms. Our classroom setting is perfect for students who seek to become more educated without shooting. \nTICKET OPTION 2: Pistol Fundamentals Course with Live-Fire\nThis is the second option in our pistol fundamentals course and is a continuation of our Pistol Fundamentals which includes range time. Here the student will apply the classroom knowledge to the range with Certified Instructors. This course is taught by a Certified Instructor and qualifies you for your multi-state concealed carry and HQL. No previous firearm training is necessary\, and Bear Arms Training will provide all firearms and hearing protection included in purchasing this course. \n\nPlease note that the live-fire session of this course will be conducted at one of our partnered ranges and will take place at the end of the course. Additional information regarding the live-fire session is below.\nAmmo and the range fee are additional costs.\nParticipants need 50-100 rounds of ammo for the live fire portion of this course. Ammo is available at the range\, or students may bring their firearms and ammo.\nNo live ammo is permitted inside the classroom portion of the course.\nAll firearms must be cased and unloaded. NO EXCEPTIONS.\n\nThis is a 4-hour course with a maximum class size of 12 participants. Please remember to click to download and complete the TRAINING WAIVER.
URL:https://beararmstraining.com/event/pistol-fundamentals-december-17-2022/
LOCATION:Pistol Basic Shooting\, Vint Hill Rd.\, Warrenton\, VA\, 20187\, United States
CATEGORIES:Pistol Fundamentals
ATTACH;FMTTYPE=image/jpeg:https://beararmstraining.com/wp-content/uploads/2022/06/3-2.jpg
ORGANIZER;CN="Nathan Bearfield":MAILTO:instructor@beararmstraining.com
END:VEVENT
BEGIN:VEVENT
DTSTART;TZID=America/New_York:20221119T080000
DTEND;TZID=America/New_York:20221119T133000
DTSTAMP:20260424T163249
CREATED:20220612T175056Z
LAST-MODIFIED:20220612T200429Z
UID:10000107-1668844800-1668864600@beararmstraining.com
SUMMARY:Pistol Fundamentals - November 19\, 2022
DESCRIPTION:We offer our Pistol Fundamentals Course with and without live fire. Please make note of which course you are signing up for when you purcahse your tickets below. \nPistol Fundamentals Course\nFound within our pistol fundamental course\, the student has two options. The first option (Pistol Fundamentals) is a 2-hour introductory class designed for the novice or inexperienced shooter. In this course\, the student will build a foundation for firearm safety and knowledge. This course is for you whether you’re brand-new to firearms or looking to feel comfortable around firearms. Our classroom setting is perfect for students who seek to become more educated without shooting. \nPistol Fundamentals Course with Live-Fire\nThis is the second option in our pistol fundamentals course and is a continuation of our Pistol Fundamentals which includes range time. Here the student will apply the classroom knowledge to the range with Certified Instructors. This course is taught by a Certified Instructor and qualifies you for your multi-state concealed carry and HQL. No previous firearm training is necessary\, and Bear Arms Training will provide all firearms and hearing protection included in purchasing this course. \nPlease note that the live-fire session of this course will be conducted at one of our partnered ranges and will take place at the end of the course. Additional information regarding the live-fire session is below. \n\nAmmo and the range fee are additional costs.\nParticipants need 50-100 rounds of ammo for the live fire portion of this course. Ammo is available at the range\, or students may bring their firearms and ammo.\nNo live ammo is permitted inside the classroom portion of the course.\nAll firearms must be cased and unloaded. NO EXCEPTIONS.\n\nThis is a 4-hour course with a maximum class size of 12 participants. Please remember to click to download and complete the TRAINING WAIVER.
URL:https://beararmstraining.com/event/pistol-fundamentals-november-19-2022/
LOCATION:Pistol Basic Shooting\, Vint Hill Rd.\, Warrenton\, VA\, 20187\, United States
CATEGORIES:Pistol Fundamentals
ATTACH;FMTTYPE=image/jpeg:https://beararmstraining.com/wp-content/uploads/2022/06/3-2.jpg
ORGANIZER;CN="Nathan Bearfield":MAILTO:instructor@beararmstraining.com
END:VEVENT
BEGIN:VEVENT
DTSTART;TZID=America/New_York:20221008T080000
DTEND;TZID=America/New_York:20221008T133000
DTSTAMP:20260424T163249
CREATED:20220612T175053Z
LAST-MODIFIED:20221007T122816Z
UID:10000104-1665216000-1665235800@beararmstraining.com
SUMMARY:Pistol Fundamentals - October 08\, 2022
DESCRIPTION:We offer our Pistol Fundamentals Course with and without live fire. Please make note of which course you are signing up for when you purcahse your tickets below. \nPistol Fundamentals Course\nFound within our pistol fundamental course\, the student has two options. The first option (Pistol Fundamentals) is a 2-hour introductory class designed for the novice or inexperienced shooter. In this course\, the student will build a foundation for firearm safety and knowledge. This course is for you whether you’re brand-new to firearms or looking to feel comfortable around firearms. Our classroom setting is perfect for students who seek to become more educated without shooting. \nPistol Fundamentals Course with Live-Fire\nThis is the second option in our pistol fundamentals course and is a continuation of our Pistol Fundamentals which includes range time. Here the student will apply the classroom knowledge to the range with Certified Instructors. This course is taught by a Certified Instructor and qualifies you for your multi-state concealed carry and HQL. No previous firearm training is necessary\, and Bear Arms Training will provide all firearms and hearing protection included in purchasing this course. \nPlease note that the live-fire session of this course will be conducted at one of our partnered ranges and will take place at the end of the course. Additional information regarding the live-fire session is below. \n\nAmmo and the range fee are additional costs.\nParticipants need 50-100 rounds of ammo for the live fire portion of this course. Ammo is available at the range\, or students may bring their firearms and ammo.\nNo live ammo is permitted inside the classroom portion of the course.\nAll firearms must be cased and unloaded. NO EXCEPTIONS.\n\nThis is a 4-hour course with a maximum class size of 12 participants. Please remember to click to download and complete the TRAINING WAIVER.
URL:https://beararmstraining.com/event/pistol-fundamentals-october-08-2022/
LOCATION:Pistol Basic Shooting\, Vint Hill Rd.\, Warrenton\, VA\, 20187\, United States
CATEGORIES:Pistol Fundamentals
ATTACH;FMTTYPE=image/jpeg:https://beararmstraining.com/wp-content/uploads/2022/06/3-2.jpg
ORGANIZER;CN="Nathan Bearfield":MAILTO:instructor@beararmstraining.com
END:VEVENT
BEGIN:VEVENT
DTSTART;TZID=America/New_York:20220903T080000
DTEND;TZID=America/New_York:20220903T133000
DTSTAMP:20260424T163249
CREATED:20220612T174947Z
LAST-MODIFIED:20220831T134943Z
UID:10000101-1662192000-1662211800@beararmstraining.com
SUMMARY:Pistol Fundamentals - September 3\, 2022
DESCRIPTION:We offer our Pistol Fundamentals Course with and without live fire. Please make note of which course you are signing up for when you purcahse your tickets below. \nPistol Fundamentals Course\nFound within our pistol fundamental course\, the student has two options. The first option (Pistol Fundamentals) is a 2-hour introductory class designed for the novice or inexperienced shooter. In this course\, the student will build a foundation for firearm safety and knowledge. This course is for you whether you’re brand-new to firearms or looking to feel comfortable around firearms. Our classroom setting is perfect for students who seek to become more educated without shooting. \nPistol Fundamentals Course with Live-Fire\nThis is the second option in our pistol fundamentals course and is a continuation of our Pistol Fundamentals which includes range time. Here the student will apply the classroom knowledge to the range with Certified Instructors. This course is taught by a Certified Instructor and qualifies you for your multi-state concealed carry and HQL. No previous firearm training is necessary\, and Bear Arms Training will provide all firearms and hearing protection included in purchasing this course. \nPlease note that the live-fire session of this course will be conducted at one of our partnered ranges and will take place at the end of the course. Additional information regarding the live-fire session is below. \n\nAmmo and the range fee are additional costs.\nParticipants need 50-100 rounds of ammo for the live fire portion of this course. Ammo is available at the range\, or students may bring their firearms and ammo.\nNo live ammo is permitted inside the classroom portion of the course.\nAll firearms must be cased and unloaded. NO EXCEPTIONS.\n\nThis is a 4-hour course with a maximum class size of 12 participants. Please remember to click to download and complete the TRAINING WAIVER.
URL:https://beararmstraining.com/event/pistol-fundamentals-september-3-2022/
LOCATION:Pistol Basic Shooting\, Vint Hill Rd.\, Warrenton\, VA\, 20187\, United States
CATEGORIES:Pistol Fundamentals
ATTACH;FMTTYPE=image/jpeg:https://beararmstraining.com/wp-content/uploads/2022/06/3-2.jpg
ORGANIZER;CN="Nathan Bearfield":MAILTO:instructor@beararmstraining.com
END:VEVENT
BEGIN:VEVENT
DTSTART;TZID=America/New_York:20220723T080000
DTEND;TZID=America/New_York:20220723T133000
DTSTAMP:20260424T163249
CREATED:20220612T174945Z
LAST-MODIFIED:20220612T200659Z
UID:10000098-1658563200-1658583000@beararmstraining.com
SUMMARY:Pistol Fundamentals - July 23\, 2022
DESCRIPTION:We offer our Pistol Fundamentals Course with and without live fire. Please make note of which course you are signing up for when you purcahse your tickets below. \nPistol Fundamentals Course\nFound within our pistol fundamental course\, the student has two options. The first option (Pistol Fundamentals) is a 2-hour introductory class designed for the novice or inexperienced shooter. In this course\, the student will build a foundation for firearm safety and knowledge. This course is for you whether you’re brand-new to firearms or looking to feel comfortable around firearms. Our classroom setting is perfect for students who seek to become more educated without shooting. \nPistol Fundamentals Course with Live-Fire\nThis is the second option in our pistol fundamentals course and is a continuation of our Pistol Fundamentals which includes range time. Here the student will apply the classroom knowledge to the range with Certified Instructors. This course is taught by a Certified Instructor and qualifies you for your multi-state concealed carry and HQL. No previous firearm training is necessary\, and Bear Arms Training will provide all firearms and hearing protection included in purchasing this course. \nPlease note that the live-fire session of this course will be conducted at one of our partnered ranges and will take place at the end of the course. Additional information regarding the live-fire session is below. \n\nAmmo and the range fee are additional costs.\nParticipants need 50-100 rounds of ammo for the live fire portion of this course. Ammo is available at the range\, or students may bring their firearms and ammo.\nNo live ammo is permitted inside the classroom portion of the course.\nAll firearms must be cased and unloaded. NO EXCEPTIONS.\n\nThis is a 4-hour course with a maximum class size of 12 participants. Please remember to click to download and complete the TRAINING WAIVER.
URL:https://beararmstraining.com/event/pistol-fundamentals-july-23-2022/
LOCATION:Pistol Basic Shooting\, Vint Hill Rd.\, Warrenton\, VA\, 20187\, United States
CATEGORIES:Pistol Fundamentals
ATTACH;FMTTYPE=image/jpeg:https://beararmstraining.com/wp-content/uploads/2022/06/3-2.jpg
ORGANIZER;CN="Nathan Bearfield":MAILTO:instructor@beararmstraining.com
END:VEVENT
END:VCALENDAR