BEGIN:VCALENDAR
VERSION:2.0
PRODID:-//Bear Arms Training - ECPv6.15.20//NONSGML v1.0//EN
CALSCALE:GREGORIAN
METHOD:PUBLISH
X-ORIGINAL-URL:https://beararmstraining.com
X-WR-CALDESC:Events for Bear Arms Training
REFRESH-INTERVAL;VALUE=DURATION:PT1H
X-Robots-Tag:noindex
X-PUBLISHED-TTL:PT1H
BEGIN:VTIMEZONE
TZID:UTC
BEGIN:STANDARD
TZOFFSETFROM:+0000
TZOFFSETTO:+0000
TZNAME:UTC
DTSTART:20190101T000000
END:STANDARD
END:VTIMEZONE
BEGIN:VEVENT
DTSTART;TZID=UTC:20210612T080000
DTEND;TZID=UTC:20210612T140000
DTSTAMP:20260424T195215
CREATED:20210219T184512Z
LAST-MODIFIED:20210602T015346Z
UID:10000068-1623484800-1623506400@beararmstraining.com
SUMMARY:Ladies First Course- June 12
DESCRIPTION:The Ladies First Course is taught by an NRA Certified Instructor and qualifies you for your Virginia conceal carry permit. Sorry\, guys\, this one is for the ladies. This is one of the most popular courses we offer! \nIn addition to the classroom portion of this course\, the student will participate in the live-fire training and nationally standardized shooting qualification alongside an NRA Certified Instructor. Upon successful completion of this course\, the student will be eligible for her concealed carry permit. The live-fire session of this course will be conducted at one of our partnered ranges and will take place at the end of the course. \n\nNO FIREARM NEEDED. Bear Arms Training will provide!\nParticipants need 50 rounds of ammo for the live-fire portion of this course. Ammo is available for purchase at the range.\nNo live ammo is permitted inside of the classroom portion of the course.\nAll firearms must be cased and unloaded. NO EXCEPTIONS.\nAMMO IS NOT INCLUDED IN COURSE.\n\n3-Hour Classroom\n1-Hour Live-Fire Range Session\nMinmum: 4 persons\nMaximum: 12 persons
URL:https://beararmstraining.com/event/ladies-first-course-june-12/
LOCATION:Ladies First\, 6317 Vint Hill Rd.\, Warrenton\, VA\, 20187\, United States
CATEGORIES:Ladies First
ATTACH;FMTTYPE=image/png:https://beararmstraining.com/wp-content/uploads/2020/06/2.png
ORGANIZER;CN="Nathan Bearfield":MAILTO:instructor@beararmstraining.com
END:VEVENT
BEGIN:VEVENT
DTSTART;TZID=UTC:20210522T080000
DTEND;TZID=UTC:20210522T140000
DTSTAMP:20260424T195215
CREATED:20210219T184329Z
LAST-MODIFIED:20210219T184329Z
UID:10000066-1621670400-1621692000@beararmstraining.com
SUMMARY:Ladies First Course- May 22
DESCRIPTION:The Ladies First Course is taught by an NRA Certified Instructor and qualifies you for your Virginia conceal carry permit. Sorry\, guys\, this one is for the ladies. This is one of the most popular courses we offer! \nIn addition to the classroom portion of this course\, the student will participate in the live-fire training and nationally standardized shooting qualification alongside an NRA Certified Instructor. Upon successful completion of this course\, the student will be eligible for her concealed carry permit. The live-fire session of this course will be conducted at one of our partnered ranges and will take place at the end of the course. \n\nNO FIREARM NEEDED. Bear Arms Training will provide!\nParticipants need 50 rounds of ammo for the live-fire portion of this course. Ammo is available for purchase at the range.\nNo live ammo is permitted inside of the classroom portion of the course.\nAll firearms must be cased and unloaded. NO EXCEPTIONS.\nAMMO IS NOT INCLUDED IN COURSE.\n\n3-Hour Classroom\n1-Hour Live-Fire Range Session\nMinmum: 4 persons\nMaximum: 12 persons
URL:https://beararmstraining.com/event/ladies-first-course-may-22/
LOCATION:Ladies First\, 6317 Vint Hill Rd.\, Warrenton\, VA\, 20187\, United States
CATEGORIES:Ladies First
ATTACH;FMTTYPE=image/png:https://beararmstraining.com/wp-content/uploads/2020/06/2.png
ORGANIZER;CN="Nathan Bearfield":MAILTO:instructor@beararmstraining.com
END:VEVENT
BEGIN:VEVENT
DTSTART;TZID=UTC:20210501T080000
DTEND;TZID=UTC:20210501T140000
DTSTAMP:20260424T195215
CREATED:20210219T184202Z
LAST-MODIFIED:20210219T184202Z
UID:10000064-1619856000-1619877600@beararmstraining.com
SUMMARY:Ladies First Course- May 1
DESCRIPTION:The Ladies First Course is taught by an NRA Certified Instructor and qualifies you for your Virginia conceal carry permit. Sorry\, guys\, this one is for the ladies. This is one of the most popular courses we offer! \nIn addition to the classroom portion of this course\, the student will participate in the live-fire training and nationally standardized shooting qualification alongside an NRA Certified Instructor. Upon successful completion of this course\, the student will be eligible for her concealed carry permit. The live-fire session of this course will be conducted at one of our partnered ranges and will take place at the end of the course. \n\nNO FIREARM NEEDED. Bear Arms Training will provide!\nParticipants need 50 rounds of ammo for the live-fire portion of this course. Ammo is available for purchase at the range.\nNo live ammo is permitted inside of the classroom portion of the course.\nAll firearms must be cased and unloaded. NO EXCEPTIONS.\nAMMO IS NOT INCLUDED IN COURSE.\n\n3-Hour Classroom\n1-Hour Live-Fire Range Session\nMinmum: 4 persons\nMaximum: 12 persons
URL:https://beararmstraining.com/event/ladies-first-course-may-1/
LOCATION:Ladies First\, 6317 Vint Hill Rd.\, Warrenton\, VA\, 20187\, United States
CATEGORIES:Ladies First
ATTACH;FMTTYPE=image/png:https://beararmstraining.com/wp-content/uploads/2020/06/2.png
ORGANIZER;CN="Nathan Bearfield":MAILTO:instructor@beararmstraining.com
END:VEVENT
BEGIN:VEVENT
DTSTART;TZID=UTC:20210417T080000
DTEND;TZID=UTC:20210417T140000
DTSTAMP:20260424T195215
CREATED:20210219T184029Z
LAST-MODIFIED:20210414T153356Z
UID:10000062-1618646400-1618668000@beararmstraining.com
SUMMARY:Ladies First Course- April 17
DESCRIPTION:The Ladies First Course is taught by an NRA Certified Instructor and qualifies you for your Virginia conceal carry permit. Sorry\, guys\, this one is for the ladies. This is one of the most popular courses we offer! \nIn addition to the classroom portion of this course\, the student will participate in the live-fire training and nationally standardized shooting qualification alongside an NRA Certified Instructor. Upon successful completion of this course\, the student will be eligible for her concealed carry permit. The live-fire session of this course will be conducted at one of our partnered ranges and will take place at the end of the course. \n\nNO FIREARM NEEDED. Bear Arms Training will provide!\nParticipants need 50 rounds of ammo for the live-fire portion of this course. Ammo is available for purchase at the range.\nNo live ammo is permitted inside of the classroom portion of the course.\nAll firearms must be cased and unloaded. NO EXCEPTIONS.\nAMMO IS NOT INCLUDED IN COURSE.\n\n3-Hour Classroom\n1-Hour Live-Fire Range Session\nMinmum: 4 persons\nMaximum: 12 persons
URL:https://beararmstraining.com/event/ladies-first-course-april-17/
LOCATION:Ladies First\, 6317 Vint Hill Rd.\, Warrenton\, VA\, 20187\, United States
CATEGORIES:Ladies First
ATTACH;FMTTYPE=image/png:https://beararmstraining.com/wp-content/uploads/2020/06/2.png
ORGANIZER;CN="Nathan Bearfield":MAILTO:instructor@beararmstraining.com
END:VEVENT
BEGIN:VEVENT
DTSTART;TZID=UTC:20210306T080000
DTEND;TZID=UTC:20210306T140000
DTSTAMP:20260424T195215
CREATED:20201120T231835Z
LAST-MODIFIED:20210227T214104Z
UID:10000056-1615017600-1615039200@beararmstraining.com
SUMMARY:Ladies First Course- March 6
DESCRIPTION:The Ladies First Course is taught by an NRA Certified Instructor and qualifies you for your Virginia conceal carry permit. Sorry\, guys\, this one is for the ladies. \nIn addition to the classroom portion of this course\, the student will participate in the live-fire training and nationally standardized shooting qualification alongside an NRA Certified Instructor. Upon successful completion of this course\, the student will be eligible for her concealed carry permit. The live-fire session of this course will be conducted at one of our partnered ranges and will take place at the end of the course. \n\nNO FIREARM NEEDED. Bear Arms Training will provide.\nParticipants need 50 rounds of ammo for the live-fire portion of this course. Ammo is available for purchase at the range.\nNo live ammo is permitted inside of the classroom portion of the course.\nAll firearms must be cased and unloaded. NO EXCEPTIONS.\nAMMO IS NOT INCLUDED.\n\n3-Hour Classroom\n1-Hour Live-Fire Range Session\nMinmum: 4 persons\nMaximum: 12 persons
URL:https://beararmstraining.com/event/ladies-first-course-march-6/
LOCATION:Ladies First\, 6317 Vint Hill Rd.\, Warrenton\, VA\, 20187\, United States
CATEGORIES:Ladies First
ATTACH;FMTTYPE=image/png:https://beararmstraining.com/wp-content/uploads/2020/06/2.png
ORGANIZER;CN="Nathan Bearfield":MAILTO:instructor@beararmstraining.com
END:VEVENT
BEGIN:VEVENT
DTSTART;TZID=UTC:20210206T080000
DTEND;TZID=UTC:20210206T140000
DTSTAMP:20260424T195215
CREATED:20201120T231658Z
LAST-MODIFIED:20210113T232039Z
UID:10000054-1612598400-1612620000@beararmstraining.com
SUMMARY:Ladies First Course- February 6
DESCRIPTION:The Ladies First Course is taught by an NRA Certified Instructor and qualifies you for your Virginia conceal carry permit. Sorry\, guys\, this one is for the ladies. \nIn addition to the classroom portion of this course\, the student will participate in the live-fire training and nationally standardized shooting qualification alongside an NRA Certified Instructor. Upon successful completion of this course\, the student will be eligible for her concealed carry permit. The live-fire session of this course will be conducted at one of our partnered ranges and will take place at the end of the course. \n\nNO FIREARM NEEDED. Bear Arms Training will provide.\nParticipants need 50 rounds of ammo for the live-fire portion of this course. Ammo is available for purchase at the range.\nNo live ammo is permitted inside of the classroom portion of the course.\nAll firearms must be cased and unloaded. NO EXCEPTIONS.\nAMMO IS NOT INCLUDED.\n\n3-Hour Classroom\n1-Hour Live-Fire Range Session\nMinmum: 4 persons\nMaximum: 12 persons
URL:https://beararmstraining.com/event/ladies-first-course-february-6/
LOCATION:Ladies First\, 6317 Vint Hill Rd.\, Warrenton\, VA\, 20187\, United States
CATEGORIES:Ladies First
ATTACH;FMTTYPE=image/png:https://beararmstraining.com/wp-content/uploads/2020/06/2.png
ORGANIZER;CN="Nathan Bearfield":MAILTO:instructor@beararmstraining.com
END:VEVENT
BEGIN:VEVENT
DTSTART;TZID=UTC:20210116T080000
DTEND;TZID=UTC:20210116T140000
DTSTAMP:20260424T195215
CREATED:20201120T231455Z
LAST-MODIFIED:20201202T083150Z
UID:10000052-1610784000-1610805600@beararmstraining.com
SUMMARY:Ladies First Course- January 16
DESCRIPTION:The Ladies First Course is taught by an NRA Certified Instructor and qualifies you for your Virginia conceal carry permit. Sorry\, guys\, this one is for the ladies. \nIn addition to the classroom portion of this course\, the student will participate in the live-fire training and nationally standardized shooting qualification alongside an NRA Certified Instructor. Upon successful completion of this course\, the student will be eligible for her concealed carry permit. The live-fire session of this course will be conducted at one of our partnered ranges and will take place at the end of the course. \n\nNO FIREARM NEEDED. Bear Arms Training will provide.\nParticipants need 50 rounds of ammo for the live-fire portion of this course. Ammo is available for purchase at the range.\nNo live ammo is permitted inside of the classroom portion of the course.\nAll firearms must be cased and unloaded. NO EXCEPTIONS.\nAMMO IS NOT INCLUDED.\n\n3-Hour Classroom\n1-Hour Live-Fire Range Session\nMinmum: 4 persons\nMaximum: 12 persons
URL:https://beararmstraining.com/event/ladies-first-course-january-16/
LOCATION:Ladies First\, 6317 Vint Hill Rd.\, Warrenton\, VA\, 20187\, United States
CATEGORIES:Ladies First
ATTACH;FMTTYPE=image/png:https://beararmstraining.com/wp-content/uploads/2020/06/2.png
ORGANIZER;CN="Nathan Bearfield":MAILTO:instructor@beararmstraining.com
END:VEVENT
BEGIN:VEVENT
DTSTART;TZID=UTC:20201218T173000
DTEND;TZID=UTC:20201218T203000
DTSTAMP:20260424T195215
CREATED:20201127T081710Z
LAST-MODIFIED:20201217T213903Z
UID:10000058-1608312600-1608323400@beararmstraining.com
SUMMARY:Ladies First Course- December 18-19
DESCRIPTION:The Ladies First Course is taught by an NRA Certified Instructor and qualifies you for your Virginia conceal carry permit. Sorry\, guys\, this one is for the ladies. \nThis is a 2-day course with classroom instruction beginning on Friday\, December 18th at 5:30pm-8:30 pm. The 1-hour live-fire portion will take place the next day on Saturday\, December 19th beginning at 9:00 am at our outdoor range. \n\nNO FIREARM NEEDED. Bear Arms Training will provide.\nParticipants need 50 rounds of ammo for the live-fire portion of this course. Ammo is available for purchase at the range.\nNo live ammo is permitted inside of the classroom portion of the course.\nAll firearms must be cased and unloaded. NO EXCEPTIONS.\nAMMO IS NOT INCLUDED.\n\n3-Hour Classroom\n1-Hour Live-Fire Range Session\nMinmum: 4 persons\nMaximum: 12 person
URL:https://beararmstraining.com/event/ladies-first-course-december-18-19/
LOCATION:Ladies First\, 6317 Vint Hill Rd.\, Warrenton\, VA\, 20187\, United States
CATEGORIES:Ladies First
ATTACH;FMTTYPE=image/png:https://beararmstraining.com/wp-content/uploads/2020/06/2.png
ORGANIZER;CN="Nathan Bearfield":MAILTO:instructor@beararmstraining.com
END:VEVENT
BEGIN:VEVENT
DTSTART;TZID=UTC:20201205T080000
DTEND;TZID=UTC:20201205T140000
DTSTAMP:20260424T195215
CREATED:20201009T010817Z
LAST-MODIFIED:20201202T083158Z
UID:10000044-1607155200-1607176800@beararmstraining.com
SUMMARY:Ladies First Course- December 5
DESCRIPTION:The Ladies First Course is taught by an NRA Certified Instructor and qualifies you for your Virginia conceal carry permit. Sorry\, guys\, this one is for the ladies. \nIn addition to the classroom portion of this course\, the student will participate in the live-fire training and nationally standardized shooting qualification alongside an NRA Certified Instructor. Upon successful completion of this course\, the student will be eligible for her concealed carry permit. The live-fire session of this course will be conducted at one of our partnered ranges and will take place at the end of the course. \n\nAdditional information regarding the live-fire session is below.\nParticipants need 50 rounds of ammo for the live-fire portion of this course. Ammo is available for purchase at the range.\nNo live ammo is permitted inside of the classroom portion of the course.\nAll firearms must be cased and unloaded. NO EXCEPTIONS.\nAmmo will be available\, if needed\, at the range for an additional cost.\n\n3-Hour Classroom\n1-Hour Live-Fire Range Session\nMinmum: 4 persons\nMaximum: 12 persons
URL:https://beararmstraining.com/event/ladies-first-course-december-5/
LOCATION:Ladies First\, 6317 Vint Hill Rd.\, Warrenton\, VA\, 20187\, United States
CATEGORIES:Ladies First
ATTACH;FMTTYPE=image/png:https://beararmstraining.com/wp-content/uploads/2020/06/2.png
ORGANIZER;CN="Nathan Bearfield":MAILTO:instructor@beararmstraining.com
END:VEVENT
BEGIN:VEVENT
DTSTART;TZID=UTC:20201107T080000
DTEND;TZID=UTC:20201107T140000
DTSTAMP:20260424T195215
CREATED:20201002T143408Z
LAST-MODIFIED:20201202T083205Z
UID:10000042-1604736000-1604757600@beararmstraining.com
SUMMARY:Ladies First Course- November 7
DESCRIPTION:The Ladies First Course is taught by an NRA Certified Instructor and qualifies you for your Virginia conceal carry permit. Sorry\, guys\, this one is for the ladies. \nIn addition to the classroom portion of this course\, the student will participate in the live-fire training and nationally standardized shooting qualification alongside an NRA Certified Instructor. Upon successful completion of this course\, the student will be eligible for her concealed carry permit. The live-fire session of this course will be conducted at one of our partnered ranges and will take place at the end of the course. \n\nAdditional information regarding the live-fire session is below.\nParticipants need 50 rounds of ammo for the live-fire portion of this course. Ammo is available for purchase at the range.\nNo live ammo is permitted inside of the classroom portion of the course.\nAll firearms must be cased and unloaded. NO EXCEPTIONS.\nAmmo will be available\, if needed\, at the range for an additional cost.\n\n3-Hour Classroom\n1-Hour Live-Fire Range Session\nMinmum: 4 persons\nMaximum: 12 persons
URL:https://beararmstraining.com/event/ladies-first-course-november-7/
LOCATION:Ladies First\, 6317 Vint Hill Rd.\, Warrenton\, VA\, 20187\, United States
CATEGORIES:Ladies First
ATTACH;FMTTYPE=image/png:https://beararmstraining.com/wp-content/uploads/2020/06/2.png
ORGANIZER;CN="Nathan Bearfield":MAILTO:instructor@beararmstraining.com
END:VEVENT
BEGIN:VEVENT
DTSTART;TZID=UTC:20201010T080000
DTEND;TZID=UTC:20201010T140000
DTSTAMP:20260424T195215
CREATED:20200804T165805Z
LAST-MODIFIED:20201202T083214Z
UID:10000041-1602316800-1602338400@beararmstraining.com
SUMMARY:Ladies First Course- October 10
DESCRIPTION:The Ladies First Course is taught by an NRA Certified Instructor and qualifies you for your Virginia conceal carry permit. Sorry\, guys\, this one is for the ladies. \nIn addition to the classroom portion of this course\, the student will participate in the live-fire training and nationally standardized shooting qualification alongside an NRA Certified Instructor. Upon successful completion of this course\, the student will be eligible for her concealed carry permit. The live-fire session of this course will be conducted at one of our partnered ranges and will take place at the end of the course. \n\nAdditional information regarding the live-fire session is below.\nAmmo and the range fee are additional costs.\nParticipants need 50-100 rounds of ammo for the live-fire portion of this course. Ammo is available for purchase at the range.\nNo live ammo is permitted inside of the classroom portion of the course.\nAll firearms must be cased and unloaded. NO EXCEPTIONS.\nFirearm rentals and ammo will be available\, if needed\, at the range for an additional cost.\n\n3-Hour Classroom\n1-Hour Live-Fire Range Session\nMinmum: 4 persons\nMaximum: 12 persons
URL:https://beararmstraining.com/event/ladies-first-course-october-10/
LOCATION:Ladies First\, 6317 Vint Hill Rd.\, Warrenton\, VA\, 20187\, United States
CATEGORIES:Ladies First
ATTACH;FMTTYPE=image/png:https://beararmstraining.com/wp-content/uploads/2020/06/2.png
ORGANIZER;CN="Nathan Bearfield":MAILTO:instructor@beararmstraining.com
END:VEVENT
BEGIN:VEVENT
DTSTART;TZID=America/New_York:02001001T080000
DTEND;TZID=America/New_York:02001001T140000
DTSTAMP:20260424T195215
CREATED:20220612T175053Z
LAST-MODIFIED:20220612T175053Z
UID:10000103--55832169600--55832148000@beararmstraining.com
SUMMARY:Ladies First - October 1\, 2022
DESCRIPTION:The Ladies First Course is taught by an NRA Certified Instructor and qualifies you for your Virginia conceal carry permit. Sorry\, guys\, this one is for the ladies. This is one of the most popular courses we offer!In addition to the classroom portion of this course\, the student will participate in the live-fire training and nationally standardized shooting qualification alongside an NRA Certified Instructor. Upon successful completion of this course\, the student will be eligible for her concealed carry permit. The live-fire session of this course will be conducted at one of our partnered ranges and will take place at the end of the course.\nNO FIREARM NEEDED. Bear Arms Training will provide!\nParticipants need 50 rounds of ammo for the live-fire portion of this course. Ammo is available for purchase at the range.\nNo live ammo is permitted inside of the classroom portion of the course.\nAll firearms must be cased and unloaded. NO EXCEPTIONS.\nAMMO IS NOT INCLUDED IN COURSE.\n3-Hour Classroom 1-Hour Live-Fire Range Session Minmum: 4 persons Maximum: 12 persons
URL:https://beararmstraining.com/event/ladies-first-october-1-2022/
LOCATION:Ladies First\, 6317 Vint Hill Rd.\, Warrenton\, VA\, 20187\, United States
ATTACH;FMTTYPE=image/jpeg:https://beararmstraining.com/wp-content/uploads/2022/06/ladies-first-featured-image.jpg
ORGANIZER;CN="Nathan Bearfield":MAILTO:instructor@beararmstraining.com
END:VEVENT
END:VCALENDAR