BEGIN:VCALENDAR
VERSION:2.0
PRODID:-//Bear Arms Training - ECPv6.15.20//NONSGML v1.0//EN
CALSCALE:GREGORIAN
METHOD:PUBLISH
X-ORIGINAL-URL:https://beararmstraining.com
X-WR-CALDESC:Events for Bear Arms Training
REFRESH-INTERVAL;VALUE=DURATION:PT1H
X-Robots-Tag:noindex
X-PUBLISHED-TTL:PT1H
BEGIN:VTIMEZONE
TZID:America/New_York
BEGIN:DAYLIGHT
TZOFFSETFROM:-0500
TZOFFSETTO:-0400
TZNAME:EDT
DTSTART:20250309T070000
END:DAYLIGHT
BEGIN:STANDARD
TZOFFSETFROM:-0400
TZOFFSETTO:-0500
TZNAME:EST
DTSTART:20251102T060000
END:STANDARD
BEGIN:DAYLIGHT
TZOFFSETFROM:-0500
TZOFFSETTO:-0400
TZNAME:EDT
DTSTART:20260308T070000
END:DAYLIGHT
BEGIN:STANDARD
TZOFFSETFROM:-0400
TZOFFSETTO:-0500
TZNAME:EST
DTSTART:20261101T060000
END:STANDARD
BEGIN:DAYLIGHT
TZOFFSETFROM:-0500
TZOFFSETTO:-0400
TZNAME:EDT
DTSTART:20270314T070000
END:DAYLIGHT
BEGIN:STANDARD
TZOFFSETFROM:-0400
TZOFFSETTO:-0500
TZNAME:EST
DTSTART:20271107T060000
END:STANDARD
END:VTIMEZONE
BEGIN:VEVENT
DTSTART;TZID=America/New_York:20260509T090000
DTEND;TZID=America/New_York:20260509T150000
DTSTAMP:20260424T150235
CREATED:20251211T094812Z
LAST-MODIFIED:20260403T132936Z
UID:10000270-1778317200-1778338800@beararmstraining.com
SUMMARY:Ladies First Course\, Saturuday May 9th\, 2026
DESCRIPTION:The Ladies First Course is a women’s concealed carry and defensive handgun training built for real life—helping you feel safe\, think clearly\, and stay in control without confusion or wasted time. Designed for beginners through intermediate shooters\, this women’s handgun class focuses on firearm safety\, pistol fundamentals\, and practical self-defense skills so you can respond with confidence—not hesitation.  \nYou’ll train in a supportive\, women-focused environment with hands-on coaching\, live-fire practice\, and clear guidance on choosing and using the right firearm for your needs. \nFirearms and hearing protection are provided\, making it easy to start—even if you don’t own a gun. You’ll also be guided through essential gear and setup\, including eye protection\, ammunition\, holsters\, and proper equipment\, so you leave fully prepared to continue training. \nRequired Equipment: \n\nReliable handgun (semi-automatic or revolver)\nMinimum of 2 magazines (for semi-automatics)\nQuality holster (if applicable)\nEye protection\nHearing protection (provided if needed)\n150–200 rounds of factory ammunition\nSturdy belt for support (recommended)\n\nIf you’re searching for a concealed carry class for women near you\, a beginner handgun course for self-defense\, or a women’s firearm safety and training program\, the Ladies First Course gives you clear\, practical instruction and real-world confidence to protect yourself and those you love. \nRead our CANCELLATION POLICY.
URL:https://beararmstraining.com/event/ladies-first-course-saturuday-may-9th-2026/
LOCATION:Ladies First\, 6317 Vint Hill Rd.\, Warrenton\, VA\, 20187\, United States
CATEGORIES:Ladies First
ATTACH;FMTTYPE=image/jpeg:https://beararmstraining.com/wp-content/uploads/2026/04/LADIES-FIRST-COURSE.jpg
ORGANIZER;CN="Nathan Bearfield":MAILTO:instructor@beararmstraining.com
END:VEVENT
BEGIN:VEVENT
DTSTART;TZID=America/New_York:20260620T090000
DTEND;TZID=America/New_York:20260620T150000
DTSTAMP:20260424T150235
CREATED:20260403T133323Z
LAST-MODIFIED:20260403T133323Z
UID:10000280-1781946000-1781967600@beararmstraining.com
SUMMARY:Ladies First Course: Saturday\, June 20th\, 2026
DESCRIPTION:The Ladies First Course is a women’s concealed carry and defensive handgun training built for real life—helping you feel safe\, think clearly\, and stay in control without confusion or wasted time. Designed for beginners through intermediate shooters\, this women’s handgun class focuses on firearm safety\, pistol fundamentals\, and practical self-defense skills so you can respond with confidence—not hesitation.  \nYou’ll train in a supportive\, women-focused environment with hands-on coaching\, live-fire practice\, and clear guidance on choosing and using the right firearm for your needs. \nFirearms and hearing protection are provided\, making it easy to start—even if you don’t own a gun. You’ll also be guided through essential gear and setup\, including eye protection\, ammunition\, holsters\, and proper equipment\, so you leave fully prepared to continue training. \nRequired Equipment: \n\nReliable handgun (semi-automatic or revolver)\nMinimum of 2 magazines (for semi-automatics)\nQuality holster (if applicable)\nEye protection\nHearing protection (provided if needed)\n150–200 rounds of factory ammunition\nSturdy belt for support (recommended)\n\nIf you’re searching for a concealed carry class for women near you\, a beginner handgun course for self-defense\, or a women’s firearm safety and training program\, the Ladies First Course gives you clear\, practical instruction and real-world confidence to protect yourself and those you love.
URL:https://beararmstraining.com/event/ladies-first-course-saturday-june-20th-2026/
LOCATION:Ladies First\, 6317 Vint Hill Rd.\, Warrenton\, VA\, 20187\, United States
CATEGORIES:Ladies First
ATTACH;FMTTYPE=image/jpeg:https://beararmstraining.com/wp-content/uploads/2026/04/LADIES-FIRST-COURSE.jpg
ORGANIZER;CN="Nathan Bearfield":MAILTO:instructor@beararmstraining.com
END:VEVENT
BEGIN:VEVENT
DTSTART;TZID=America/New_York:20260926T090000
DTEND;TZID=America/New_York:20260926T150000
DTSTAMP:20260424T150235
CREATED:20260403T133556Z
LAST-MODIFIED:20260403T133556Z
UID:10000281-1790413200-1790434800@beararmstraining.com
SUMMARY:Ladies First Course: Saturday\, September 26th\, 2026
DESCRIPTION:The Ladies First Course is a women’s concealed carry and defensive handgun training built for real life—helping you feel safe\, think clearly\, and stay in control without confusion or wasted time. Designed for beginners through intermediate shooters\, this women’s handgun class focuses on firearm safety\, pistol fundamentals\, and practical self-defense skills so you can respond with confidence—not hesitation.  \nYou’ll train in a supportive\, women-focused environment with hands-on coaching\, live-fire practice\, and clear guidance on choosing and using the right firearm for your needs. \nFirearms and hearing protection are provided\, making it easy to start—even if you don’t own a gun. You’ll also be guided through essential gear and setup\, including eye protection\, ammunition\, holsters\, and proper equipment\, so you leave fully prepared to continue training. \nRequired Equipment: \n\nReliable handgun (semi-automatic or revolver)\nMinimum of 2 magazines (for semi-automatics)\nQuality holster (if applicable)\nEye protection\nHearing protection (provided if needed)\n150–200 rounds of factory ammunition\nSturdy belt for support (recommended)\n\nIf you’re searching for a concealed carry class for women near you\, a beginner handgun course for self-defense\, or a women’s firearm safety and training program\, the Ladies First Course gives you clear\, practical instruction and real-world confidence to protect yourself and those you love.
URL:https://beararmstraining.com/event/ladies-first-course-saturday-september-26th-2026/
LOCATION:Ladies First\, 6317 Vint Hill Rd.\, Warrenton\, VA\, 20187\, United States
CATEGORIES:Ladies First
ATTACH;FMTTYPE=image/jpeg:https://beararmstraining.com/wp-content/uploads/2026/04/LADIES-FIRST-COURSE.jpg
ORGANIZER;CN="Nathan Bearfield":MAILTO:instructor@beararmstraining.com
END:VEVENT
END:VCALENDAR