BEGIN:VCALENDAR
VERSION:2.0
PRODID:-//Bear Arms Training - ECPv6.15.20//NONSGML v1.0//EN
CALSCALE:GREGORIAN
METHOD:PUBLISH
X-WR-CALNAME:Bear Arms Training
X-ORIGINAL-URL:https://beararmstraining.com
X-WR-CALDESC:Events for Bear Arms Training
REFRESH-INTERVAL;VALUE=DURATION:PT1H
X-Robots-Tag:noindex
X-PUBLISHED-TTL:PT1H
BEGIN:VTIMEZONE
TZID:America/New_York
BEGIN:DAYLIGHT
TZOFFSETFROM:-0500
TZOFFSETTO:-0400
TZNAME:EDT
DTSTART:20250309T070000
END:DAYLIGHT
BEGIN:STANDARD
TZOFFSETFROM:-0400
TZOFFSETTO:-0500
TZNAME:EST
DTSTART:20251102T060000
END:STANDARD
BEGIN:DAYLIGHT
TZOFFSETFROM:-0500
TZOFFSETTO:-0400
TZNAME:EDT
DTSTART:20260308T070000
END:DAYLIGHT
BEGIN:STANDARD
TZOFFSETFROM:-0400
TZOFFSETTO:-0500
TZNAME:EST
DTSTART:20261101T060000
END:STANDARD
BEGIN:DAYLIGHT
TZOFFSETFROM:-0500
TZOFFSETTO:-0400
TZNAME:EDT
DTSTART:20270314T070000
END:DAYLIGHT
BEGIN:STANDARD
TZOFFSETFROM:-0400
TZOFFSETTO:-0500
TZNAME:EST
DTSTART:20271107T060000
END:STANDARD
END:VTIMEZONE
BEGIN:VEVENT
DTSTART;TZID=America/New_York:20260815T140000
DTEND;TZID=America/New_York:20260815T160000
DTSTAMP:20260424T135540
CREATED:20260404T112438Z
LAST-MODIFIED:20260404T112438Z
UID:10000285-1786802400-1786809600@beararmstraining.com
SUMMARY:2-Hour Dry Fire Workshop (Women's Class)
DESCRIPTION:Confidence & Control: Women’s Dry Fire Workshop \nIn this 2-hour\, women-only workshop\, you’ll learn to safely handle your firearm\, improve accuracy\, and gain the confidence to protect yourself and those you love—all in a supportive\, no-pressure environment. No experience needed. \nWhat to Bring: \n\nSafe\, unloaded pistol\nHolster\nSturdy belt\nAt least two magazines\nMinimum of one magazine holster\nComfortable clothing\n\nTake the first step toward feeling confident\, capable\, and in control. No AMMO. 
URL:https://beararmstraining.com/event/2-hour-dry-fire-workshop-womens-class/
LOCATION:Intro to Firearms\, Vint Hill Rd\, Warrenton\, VA\, 20187\, United States
CATEGORIES:Dry Fire Workshop
ATTACH;FMTTYPE=image/jpeg:https://beararmstraining.com/wp-content/uploads/2026/04/Dry-Fire-WORKSHOP.jpg
END:VEVENT
END:VCALENDAR