BEGIN:VCALENDAR
VERSION:2.0
PRODID:-//Bear Arms Training - ECPv6.15.20//NONSGML v1.0//EN
CALSCALE:GREGORIAN
METHOD:PUBLISH
X-WR-CALNAME:Bear Arms Training
X-ORIGINAL-URL:https://beararmstraining.com
X-WR-CALDESC:Events for Bear Arms Training
REFRESH-INTERVAL;VALUE=DURATION:PT1H
X-Robots-Tag:noindex
X-PUBLISHED-TTL:PT1H
BEGIN:VTIMEZONE
TZID:America/New_York
BEGIN:DAYLIGHT
TZOFFSETFROM:-0500
TZOFFSETTO:-0400
TZNAME:EDT
DTSTART:20220313T070000
END:DAYLIGHT
BEGIN:STANDARD
TZOFFSETFROM:-0400
TZOFFSETTO:-0500
TZNAME:EST
DTSTART:20221106T060000
END:STANDARD
BEGIN:DAYLIGHT
TZOFFSETFROM:-0500
TZOFFSETTO:-0400
TZNAME:EDT
DTSTART:20230312T070000
END:DAYLIGHT
BEGIN:STANDARD
TZOFFSETFROM:-0400
TZOFFSETTO:-0500
TZNAME:EST
DTSTART:20231105T060000
END:STANDARD
BEGIN:DAYLIGHT
TZOFFSETFROM:-0500
TZOFFSETTO:-0400
TZNAME:EDT
DTSTART:20240310T070000
END:DAYLIGHT
BEGIN:STANDARD
TZOFFSETFROM:-0400
TZOFFSETTO:-0500
TZNAME:EST
DTSTART:20241103T060000
END:STANDARD
END:VTIMEZONE
BEGIN:VTIMEZONE
TZID:UTC
BEGIN:STANDARD
TZOFFSETFROM:+0000
TZOFFSETTO:+0000
TZNAME:UTC
DTSTART:20190101T000000
END:STANDARD
END:VTIMEZONE
BEGIN:VEVENT
DTSTART;TZID=America/New_York:20230812T090000
DTEND;TZID=America/New_York:20230812T143000
DTSTAMP:20260424T152931
CREATED:20230524T230205Z
LAST-MODIFIED:20230524T230205Z
UID:10000125-1691830800-1691850600@beararmstraining.com
SUMMARY:Pistol Fundamentals- August 12th
DESCRIPTION:We offer our Pistol Fundamentals Course with and without live fire. Please note which course you are signing up for when you purchase your tickets below. \nTICKET OPTION 1: Pistol Fundamentals Course\nFound within our pistol fundamentals course\, the student has two options. The first option (Pistol Fundamentals) is a 2-hour introductory class designed for the novice or inexperienced shooter. The student will build a foundation for firearm safety and knowledge in this course. Whether you’re brand-new to firearms or looking to feel comfortable around firearms\, this course is for you. Our classroom setting is perfect for students who seek to become more educated without shooting. \nTICKET OPTION 2: Pistol Fundamentals Course with Live-Fire\nThis is the second option in our pistol fundamentals course and is a continuation of our Pistol Fundamentals\, which includes range time. Here the student will apply the classroom knowledge to the range with Certified Instructors. A Certified Instructor teaches this course and qualifies you for your multi-state concealed carry and HQL. No previous firearm training is necessary\, and Bear Arms Training will provide all firearms and hearing protection included in purchasing this course. \n\nPlease note that the live-fire session of this course will be conducted at one of our partnered ranges and will take place at the end of the course. Additional information regarding the live-fire session is below.\nAmmo and the range fee are additional costs.\nParticipants need 50-100 rounds of ammo for the live fire portion of this course. Ammo is available at the range\, or students may bring their firearms and ammo.\nNo live ammo is permitted inside the classroom portion of the course.\nAll firearms must be cased and unloaded. NO EXCEPTIONS.\n\nThis is a 4-hour course with a maximum class size of 12 participants. Please remember to click to download and complete the TRAINING WAIVER.
URL:https://beararmstraining.com/event/pistol-fundamentals-august-12th/
LOCATION:Intro to Firearms\, Vint Hill Rd\, Warrenton\, VA\, 20187\, United States
CATEGORIES:Pistol Fundamentals
ATTACH;FMTTYPE=image/jpeg:https://beararmstraining.com/wp-content/uploads/2022/06/3-2.jpg
ORGANIZER;CN="Nathan Bearfield":MAILTO:instructor@beararmstraining.com
END:VEVENT
BEGIN:VEVENT
DTSTART;TZID=America/New_York:20230527T090000
DTEND;TZID=America/New_York:20230527T143000
DTSTAMP:20260424T152931
CREATED:20221227T175735Z
LAST-MODIFIED:20221227T175736Z
UID:10000116-1685178000-1685197800@beararmstraining.com
SUMMARY:Pistol Fundamentals- May 27th
DESCRIPTION:We offer our Pistol Fundamentals Course with and without live fire. Please make a note of which course you are signing up for when you purchase your tickets below. \nTICKET OPTION 1: Pistol Fundamentals Course\nFound within our pistol fundamentals course\, the student has two options. The first option (Pistol Fundamentals) is a 2-hour introductory class designed for the novice or inexperienced shooter. The student will build a foundation for firearm safety and knowledge in this course. This course is for you whether you’re brand-new to firearms or looking to feel comfortable around firearms. Our classroom setting is perfect for students who seek to become more educated without shooting. \nTICKET OPTION 2: Pistol Fundamentals Course with Live-Fire\nThis is the second option in our pistol fundamentals course and is a continuation of our Pistol Fundamentals which includes range time. Here the student will apply the classroom knowledge to the range with Certified Instructors. This course is taught by a Certified Instructor and qualifies you for your multi-state concealed carry and HQL. No previous firearm training is necessary\, and Bear Arms Training will provide all firearms and hearing protection included in purchasing this course. \n\nPlease note that the live-fire session of this course will be conducted at one of our partnered ranges and will take place at the end of the course. Additional information regarding the live-fire session is below.\nAmmo and the range fee are additional costs.\nParticipants need 50-100 rounds of ammo for the live fire portion of this course. Ammo is available at the range\, or students may bring their firearms and ammo.\nNo live ammo is permitted inside the classroom portion of the course.\nAll firearms must be cased and unloaded. NO EXCEPTIONS.\n\nThis is a 4-hour course with a maximum class size of 12 participants. Please remember to click to download and complete the TRAINING WAIVER.
URL:https://beararmstraining.com/event/pistol-fundamentals-may-27th/
LOCATION:Intro to Firearms\, Vint Hill Rd\, Warrenton\, VA\, 20187\, United States
CATEGORIES:Pistol Fundamentals
ATTACH;FMTTYPE=image/jpeg:https://beararmstraining.com/wp-content/uploads/2022/06/3-2.jpg
ORGANIZER;CN="Nathan Bearfield":MAILTO:instructor@beararmstraining.com
END:VEVENT
BEGIN:VEVENT
DTSTART;TZID=America/New_York:20230415T090000
DTEND;TZID=America/New_York:20230415T143000
DTSTAMP:20260424T152931
CREATED:20221227T173421Z
LAST-MODIFIED:20221227T173422Z
UID:10000112-1681549200-1681569000@beararmstraining.com
SUMMARY:Pistol Fundamentals w/ Live Fire- April 15
DESCRIPTION:We offer our Pistol Fundamentals Course with and without live fire. Please make a note of which course you are signing up for when you purchase your tickets below. \nTICKET OPTION 1: Pistol Fundamentals Course\nFound within our pistol fundamentals course\, the student has two options. The first option (Pistol Fundamentals) is a 2-hour introductory class designed for the novice or inexperienced shooter. The student will build a foundation for firearm safety and knowledge in this course. This course is for you whether you’re brand-new to firearms or looking to feel comfortable around firearms. Our classroom setting is perfect for students who seek to become more educated without shooting. \nTICKET OPTION 2: Pistol Fundamentals Course with Live-Fire\nThis is the second option in our pistol fundamentals course and is a continuation of our Pistol Fundamentals which includes range time. Here the student will apply the classroom knowledge to the range with Certified Instructors. This course is taught by a Certified Instructor and qualifies you for your multi-state concealed carry and HQL. No previous firearm training is necessary\, and Bear Arms Training will provide all firearms and hearing protection included in purchasing this course. \n\nPlease note that the live-fire session of this course will be conducted at one of our partnered ranges and will take place at the end of the course. Additional information regarding the live-fire session is below.\nAmmo and the range fee are additional costs.\nParticipants need 50-100 rounds of ammo for the live fire portion of this course. Ammo is available at the range\, or students may bring their firearms and ammo.\nNo live ammo is permitted inside the classroom portion of the course.\nAll firearms must be cased and unloaded. NO EXCEPTIONS.\n\nThis is a 4-hour course with a maximum class size of 12 participants. Please remember to click to download and complete the TRAINING WAIVER.
URL:https://beararmstraining.com/event/pistol-fundamentals-w-live-fire-april-15/
LOCATION:Intro to Firearms\, Vint Hill Rd\, Warrenton\, VA\, 20187\, United States
CATEGORIES:Pistol Fundamentals
ATTACH;FMTTYPE=image/jpeg:https://beararmstraining.com/wp-content/uploads/2022/06/3-2.jpg
ORGANIZER;CN="Nathan Bearfield":MAILTO:instructor@beararmstraining.com
END:VEVENT
BEGIN:VEVENT
DTSTART;TZID=America/New_York:20230318T090000
DTEND;TZID=America/New_York:20230318T143000
DTSTAMP:20260424T152931
CREATED:20221227T172323Z
LAST-MODIFIED:20221227T173206Z
UID:10000110-1679130000-1679149800@beararmstraining.com
SUMMARY:Pistol Fundamentals w/ Live Fire- March 18th
DESCRIPTION:We offer our Pistol Fundamentals Course with and without live fire. Please make a note of which course you are signing up for when you purchase your tickets below. \nTICKET OPTION 1: Pistol Fundamentals Course\nFound within our pistol fundamentals course\, the student has two options. The first option (Pistol Fundamentals) is a 2-hour introductory class designed for the novice or inexperienced shooter. The student will build a foundation for firearm safety and knowledge in this course. This course is for you whether you’re brand-new to firearms or looking to feel comfortable around firearms. Our classroom setting is perfect for students who seek to become more educated without shooting. \nTICKET OPTION 2: Pistol Fundamentals Course with Live-Fire\nThis is the second option in our pistol fundamentals course and is a continuation of our Pistol Fundamentals which includes range time. Here the student will apply the classroom knowledge to the range with Certified Instructors. This course is taught by a Certified Instructor and qualifies you for your multi-state concealed carry and HQL. No previous firearm training is necessary\, and Bear Arms Training will provide all firearms and hearing protection included in purchasing this course. \n\nPlease note that the live-fire session of this course will be conducted at one of our partnered ranges and will take place at the end of the course. Additional information regarding the live-fire session is below.\nAmmo and the range fee are additional costs.\nParticipants need 50-100 rounds of ammo for the live fire portion of this course. Ammo is available at the range\, or students may bring their firearms and ammo.\nNo live ammo is permitted inside the classroom portion of the course.\nAll firearms must be cased and unloaded. NO EXCEPTIONS.\n\nThis is a 4-hour course with a maximum class size of 12 participants. Please remember to click to download and complete the TRAINING WAIVER.
URL:https://beararmstraining.com/event/pistol-fundamentals-w-live-fire/
LOCATION:Intro to Firearms\, Vint Hill Rd\, Warrenton\, VA\, 20187\, United States
CATEGORIES:Pistol Fundamentals
ATTACH;FMTTYPE=image/jpeg:https://beararmstraining.com/wp-content/uploads/2022/06/3-2.jpg
ORGANIZER;CN="Nathan Bearfield":MAILTO:instructor@beararmstraining.com
END:VEVENT
BEGIN:VEVENT
DTSTART;TZID=UTC:20210410T080000
DTEND;TZID=UTC:20210410T140000
DTSTAMP:20260424T152931
CREATED:20210219T182941Z
LAST-MODIFIED:20210219T182941Z
UID:10000060-1618041600-1618063200@beararmstraining.com
SUMMARY:Intro to Firearms- April 10
DESCRIPTION:Our Introduction to Firearms Course is a four-hour introductory class taught by an NRA Certified Instructor. This class is for the novice or inexperienced shooter\, and it is designed to build a foundation for firearm safety and knowledge. Whether you want to feel comfortable with a firearm or proceed to more advanced training\, later on\, this course is for you. \nWe believe that we are the best choice for a safe and comfortable training environment\, and we are committed to your safety. \nPlease note that the live-fire session of this course will be conducted at one of our partnered ranges and will take place at the end of the course. Additional information regarding the live-fire session is below. \n\nAMMO IS NOT INCLUDED\nNo live ammo is permitted in the classroom portion of this course.\nAll firearms must be cased and unloaded. NO EXCEPTIONS.\nAll participants must be 13 or older to take this course\, and a parent or legal guardian must attend the same course or remain on the premises the entire time.\n\nNOTE: THIS IS NOT AN NRA-APPROVED COURSE \n3+ Hour Classroom Session. Minimum: 4 people. Maximum: 12
URL:https://beararmstraining.com/event/intro-to-firearms-april-10/
LOCATION:Intro to Firearms\, Vint Hill Rd\, Warrenton\, VA\, 20187\, United States
CATEGORIES:Pistol Fundamentals
ATTACH;FMTTYPE=image/png:https://beararmstraining.com/wp-content/uploads/2020/06/1.png
ORGANIZER;CN="Nathan Bearfield":MAILTO:instructor@beararmstraining.com
END:VEVENT
BEGIN:VEVENT
DTSTART;TZID=UTC:20210220T080000
DTEND;TZID=UTC:20210220T140000
DTSTAMP:20260424T152931
CREATED:20201120T230347Z
LAST-MODIFIED:20201202T083326Z
UID:10000051-1613808000-1613829600@beararmstraining.com
SUMMARY:Intro to Firearms- February 20
DESCRIPTION:Our Introduction to Firearms Course is a four-hour introductory class taught by an NRA Certified Instructor. This class is for the novice or inexperienced shooter\, and it is designed to build a foundation for firearm safety and knowledge. Whether you want to feel comfortable with a firearm or proceed to more advanced training\, later on\, this course is for you. \nWe believe that we are the best choice for a safe and comfortable training environment\, and we are committed to your safety. \nPlease note that the live-fire session of this course will be conducted at one of our partnered ranges and will take place at the end of the course. Additional information regarding the live-fire session is below. \n\nAMMO IS NOT INCLUDED\nNo live ammo is permitted in the classroom portion of this course.\nAll firearms must be cased and unloaded. NO EXCEPTIONS.\nAll participants must be 13 or older to take this course\, and a parent or legal guardian must attend the same course or remain on the premises the entire time.\n\nNOTE: THIS IS NOT AN NRA-APPROVED COURSE \n3+ Hour Classroom Session. Minimum: 4 people. Maximum: 12
URL:https://beararmstraining.com/event/intro-to-firearms-february-20/
LOCATION:Intro to Firearms\, Vint Hill Rd\, Warrenton\, VA\, 20187\, United States
CATEGORIES:Pistol Fundamentals
ATTACH;FMTTYPE=image/png:https://beararmstraining.com/wp-content/uploads/2020/06/1.png
ORGANIZER;CN="Nathan Bearfield":MAILTO:instructor@beararmstraining.com
END:VEVENT
BEGIN:VEVENT
DTSTART;TZID=UTC:20210123T080000
DTEND;TZID=UTC:20210123T140000
DTSTAMP:20260424T152931
CREATED:20201120T230208Z
LAST-MODIFIED:20201202T083331Z
UID:10000050-1611388800-1611410400@beararmstraining.com
SUMMARY:Intro to Firearms- January 23
DESCRIPTION:Our Introduction to Firearms Course is a four-hour introductory class taught by an NRA Certified Instructor. This class is for the novice or inexperienced shooter\, and it is designed to build a foundation for firearm safety and knowledge. Whether you want to feel comfortable with a firearm or proceed to more advanced training\, later on\, this course is for you. \nWe believe that we are the best choice for a safe and comfortable training environment\, and we are committed to your safety. \nPlease note that the live-fire session of this course will be conducted at one of our partnered ranges and will take place at the end of the course. Additional information regarding the live-fire session is below. \n\nAMMO IS NOT INCLUDED\nNo live ammo is permitted in the classroom portion of this course.\nAll firearms must be cased and unloaded. NO EXCEPTIONS.\nAll participants must be 13 or older to take this course\, and a parent or legal guardian must attend the same course or remain on the premises the entire time.\n\nNOTE: THIS IS NOT AN NRA-APPROVED COURSE \n3+ Hour Classroom Session. Minimum: 4 people. Maximum: 12
URL:https://beararmstraining.com/event/intro-to-firearms-january-23/
LOCATION:Intro to Firearms\, Vint Hill Rd\, Warrenton\, VA\, 20187\, United States
CATEGORIES:Pistol Fundamentals
ATTACH;FMTTYPE=image/png:https://beararmstraining.com/wp-content/uploads/2020/06/1.png
ORGANIZER;CN="Nathan Bearfield":MAILTO:instructor@beararmstraining.com
END:VEVENT
BEGIN:VEVENT
DTSTART;TZID=UTC:20201219T080000
DTEND;TZID=UTC:20201219T140000
DTSTAMP:20260424T152931
CREATED:20201009T012655Z
LAST-MODIFIED:20201009T012655Z
UID:10000046-1608364800-1608386400@beararmstraining.com
SUMMARY:Intro to Firearms- December 19
DESCRIPTION:Our Introduction to Firearms Course is a four-hour introductory class taught by an NRA Certified Instructor. This class is for the novice or inexperienced shooter\, and it is designed to build a foundation for firearm safety and knowledge. Whether you want to feel comfortable with a firearm or proceed to more advanced training\, later on\, this course is for you. \nWe believe that we are the best choice for a safe and comfortable training environment\, and we are committed to your safety. \nPlease note that the live-fire session of this course will be conducted at one of our partnered ranges and will take place at the end of the course. Additional information regarding the live-fire session is below. \n\nAMMO IS NOT INCLUDED\nNo live ammo is permitted in the classroom portion of this course.\nAll firearms must be cased and unloaded. NO EXCEPTIONS.\nAll participants must be 13 or older to take this course\, and a parent or legal guardian must attend the same course or remain on the premises the entire time.\n\nNOTE: THIS IS NOT AN NRA-APPROVED COURSE \n3+ Hour Classroom Session. Minimum: 4 people. Maximum: 12
URL:https://beararmstraining.com/event/intro-to-firearms-december-19/
LOCATION:Intro to Firearms\, Vint Hill Rd\, Warrenton\, VA\, 20187\, United States
CATEGORIES:Pistol Fundamentals
ATTACH;FMTTYPE=image/png:https://beararmstraining.com/wp-content/uploads/2020/06/1.png
ORGANIZER;CN="Nathan Bearfield":MAILTO:instructor@beararmstraining.com
END:VEVENT
BEGIN:VEVENT
DTSTART;TZID=UTC:20201024T080000
DTEND;TZID=UTC:20201024T140000
DTSTAMP:20260424T152931
CREATED:20200804T165522Z
LAST-MODIFIED:20201202T083341Z
UID:10000040-1603526400-1603548000@beararmstraining.com
SUMMARY:Intro to Firearms- October 24
DESCRIPTION:Our Introduction to Firearms Course is a four-hour introductory class taught by an NRA Certified Instructor. This class is for the novice or inexperienced shooter\, and it is designed to build a foundation for firearm safety and knowledge. Whether you want to feel comfortable with a firearm or proceed to more advanced training\, later on\, this course is for you. \nWe believe that we are the best choice for a safe and comfortable training environment\, and we are committed to your safety. \nPlease note that the live-fire session of this course will be conducted at one of our partnered ranges and will take place at the end of the course. Additional information regarding the live-fire session is below. \n\nAmmo\, range fee\, and the firearm rental fee are additional costs.\nNo live ammo is permitted in the classroom portion of this course.\nAll firearms must be cased and unloaded. NO EXCEPTIONS.\nFirearm rentals and ammo will be available at the range.\nAll participants must be 13 or older to take this course\, and a parent or legal guardian must attend the same course or remain on the premises the entire time.\n\nNOTE: THIS IS NOT AN NRA-APPROVED COURSE \n3+ Hour Classroom Session. Minimum: 4 people. Maximum: 12 \nLive-Fire Session will be chosen during Classroom Session.
URL:https://beararmstraining.com/event/intro-to-firearms-october-24/
LOCATION:Intro to Firearms\, Vint Hill Rd\, Warrenton\, VA\, 20187\, United States
CATEGORIES:Pistol Fundamentals
ATTACH;FMTTYPE=image/png:https://beararmstraining.com/wp-content/uploads/2020/06/1.png
ORGANIZER;CN="Nathan Bearfield":MAILTO:instructor@beararmstraining.com
END:VEVENT
BEGIN:VEVENT
DTSTART;TZID=UTC:20201003T080000
DTEND;TZID=UTC:20201003T140000
DTSTAMP:20260424T152931
CREATED:20200804T165317Z
LAST-MODIFIED:20201202T083347Z
UID:10000039-1601712000-1601733600@beararmstraining.com
SUMMARY:Intro to Firearms- October 3
DESCRIPTION:Our Introduction to Firearms Course is a four-hour introductory class taught by an NRA Certified Instructor. This class is for the novice or inexperienced shooter\, and it is designed to build a foundation for firearm safety and knowledge. Whether you want to feel comfortable with a firearm or proceed to more advanced training\, later on\, this course is for you. \nWe believe that we are the best choice for a safe and comfortable training environment\, and we are committed to your safety. \nPlease note that the live-fire session of this course will be conducted at one of our partnered ranges and will take place at the end of the course. Additional information regarding the live-fire session is below. \n\nAmmo\, range fee\, and the firearm rental fee are additional costs.\nNo live ammo is permitted in the classroom portion of this course.\nAll firearms must be cased and unloaded. NO EXCEPTIONS.\nFirearm rentals and ammo will be available at the range.\nAll participants must be 13 or older to take this course\, and a parent or legal guardian must attend the same course or remain on the premises the entire time.\n\nNOTE: THIS IS NOT AN NRA-APPROVED COURSE \n3+ Hour Classroom Session. Minimum: 4 people. Maximum: 12 \nLive-Fire Session will be chosen during Classroom Session.
URL:https://beararmstraining.com/event/intro-to-firearms-october-3/
LOCATION:Intro to Firearms\, Vint Hill Rd\, Warrenton\, VA\, 20187\, United States
CATEGORIES:Pistol Fundamentals
ATTACH;FMTTYPE=image/png:https://beararmstraining.com/wp-content/uploads/2020/06/1.png
ORGANIZER;CN="Nathan Bearfield":MAILTO:instructor@beararmstraining.com
END:VEVENT
END:VCALENDAR