BEGIN:VCALENDAR
VERSION:2.0
PRODID:-//Bear Arms Training - ECPv6.15.20//NONSGML v1.0//EN
CALSCALE:GREGORIAN
METHOD:PUBLISH
X-ORIGINAL-URL:https://beararmstraining.com
X-WR-CALDESC:Events for Bear Arms Training
REFRESH-INTERVAL;VALUE=DURATION:PT1H
X-Robots-Tag:noindex
X-PUBLISHED-TTL:PT1H
BEGIN:VTIMEZONE
TZID:America/New_York
BEGIN:DAYLIGHT
TZOFFSETFROM:-0500
TZOFFSETTO:-0400
TZNAME:EDT
DTSTART:20210314T070000
END:DAYLIGHT
BEGIN:STANDARD
TZOFFSETFROM:-0400
TZOFFSETTO:-0500
TZNAME:EST
DTSTART:20211107T060000
END:STANDARD
BEGIN:DAYLIGHT
TZOFFSETFROM:-0500
TZOFFSETTO:-0400
TZNAME:EDT
DTSTART:20220313T070000
END:DAYLIGHT
BEGIN:STANDARD
TZOFFSETFROM:-0400
TZOFFSETTO:-0500
TZNAME:EST
DTSTART:20221106T060000
END:STANDARD
BEGIN:DAYLIGHT
TZOFFSETFROM:-0500
TZOFFSETTO:-0400
TZNAME:EDT
DTSTART:20230312T070000
END:DAYLIGHT
BEGIN:STANDARD
TZOFFSETFROM:-0400
TZOFFSETTO:-0500
TZNAME:EST
DTSTART:20231105T060000
END:STANDARD
BEGIN:DAYLIGHT
TZOFFSETFROM:-0500
TZOFFSETTO:-0400
TZNAME:EDT
DTSTART:20240310T070000
END:DAYLIGHT
BEGIN:STANDARD
TZOFFSETFROM:-0400
TZOFFSETTO:-0500
TZNAME:EST
DTSTART:20241103T060000
END:STANDARD
END:VTIMEZONE
BEGIN:VEVENT
DTSTART;TZID=America/New_York:20230729T090000
DTEND;TZID=America/New_York:20230729T143000
DTSTAMP:20260424T212841
CREATED:20230524T231127Z
LAST-MODIFIED:20230524T231127Z
UID:10000126-1690621200-1690641000@beararmstraining.com
SUMMARY:Defensive Pistol I- July 29th
DESCRIPTION:This is the next step in your personal defense training. This course builds upon our pistol fundamentals course\, heavily emphasizing mindset\, awareness\, emergency reloads\, and more. Here students improve their pistol-handling skills by applying all classroom knowledge to the range with Certified Instructors.\nThis is the next step in your personal defense. The Defensive Pistol course is to help students become aware of their responsibilities when concealing carrying a firearm. This course introduces students through a series of classroom scenarios and drills to challenge the decision-making process before\, during\, and after a defensive shooting. Each student will learn problem-solving techniques and build confidence in their pistol-handling skills. Additional information regarding the live-fire session is below.\nPrerequisite: Pistol Fundamentals with Live-Fire or equivalent.  \nWHAT YOU’LL NEED \n\nStudents will need to provide their own firearms.\nDouble or single mag pouch.\nParticipants will need 150 rounds of ammo for the live fire portion of this course.\nStudents will need their own holster (IWB or OWB). NO SERPA HOLSTERS\nStudents will need a concealed garment (jacket/vest/coat/shirt etc.).\n\nThis is a 6-hour course with a maximum class size of 12. Please remember to click to download and complete the TRAINING WAIVER.
URL:https://beararmstraining.com/event/defensive-pistol-i-july-29th/
LOCATION:Defensive Pistol 1\, Vint Hill Rd.\, Warrenton\, VA\, 20187\, United States
CATEGORIES:Defensive Pistol 1
ATTACH;FMTTYPE=image/jpeg:https://beararmstraining.com/wp-content/uploads/2022/06/4-1.jpg
ORGANIZER;CN="Nathan Bearfield":MAILTO:instructor@beararmstraining.com
END:VEVENT
BEGIN:VEVENT
DTSTART;TZID=America/New_York:20221029T080000
DTEND;TZID=America/New_York:20221029T133000
DTSTAMP:20260424T212841
CREATED:20220612T175054Z
LAST-MODIFIED:20220612T202251Z
UID:10000105-1667030400-1667050200@beararmstraining.com
SUMMARY:Defensive Pistol I - October 29\, 2022
DESCRIPTION:This is the next step in your personal defense training. This course builds upon our pistol fundamentals course with a heavy emphasis on mindset\, awareness\, emergency reloads\, and more. Here students improve their pistol-handling skills by applying all classroom knowledge to the range with Certified Instructors.\nThis is the next step in your personal defense. The Defensive Pistol course is to help students become aware of their responsibilities when concealing carrying a firearm. This course introduces students through a series of classroom scenarios and drills to challenge the decision-making process before\, during\, and after a defensive shooting. Each student will learn problem-solving techniques and build confidence in their pistol handling skills. Additional information regarding the live-fire session is below.\nPrerequisite: Pistol Fundamentals with Live-Fire or equivalent.  \nWHAT YOU’LL NEED \n\nStudents will need to provide their own firearms.\nDouble or single mag pouch.\nParticipants will need 150 rounds of ammo for the live fire portion of this course.\nStudents will need their own holster (IWB or OWB). NO SERPA HOLSTERS\nStudents will need a concealed garment (jacket/vest/coat/shirt etc.).\n\nThis is a 6-hour course with a maximum class size of 12. Please remember to click to download and complete the TRAINING WAIVER.
URL:https://beararmstraining.com/event/defensive-pistol-i-october-29-2022/
LOCATION:Defensive Pistol 1\, Vint Hill Rd.\, Warrenton\, VA\, 20187\, United States
CATEGORIES:Defensive Pistol 1
ATTACH;FMTTYPE=image/jpeg:https://beararmstraining.com/wp-content/uploads/2022/06/4-1.jpg
ORGANIZER;CN="Nathan Bearfield":MAILTO:instructor@beararmstraining.com
END:VEVENT
BEGIN:VEVENT
DTSTART;TZID=America/New_York:20220806T080000
DTEND;TZID=America/New_York:20220806T080000
DTSTAMP:20260424T212841
CREATED:20220612T174946Z
LAST-MODIFIED:20220617T125447Z
UID:10000099-1659772800-1659772800@beararmstraining.com
SUMMARY:Defensive Pistol I - August 6\, 2022
DESCRIPTION:This is the next step in your personal defense training. This course builds upon our pistol fundamentals course with a heavy emphasis on mindset\, awareness\, emergency reloads\, and more. Here students improve their pistol-handling skills by applying all classroom knowledge to the range with Certified Instructors.\nThis is the next step in your personal defense. The Defensive Pistol course is to help students become aware of their responsibilities when concealing carrying a firearm. This course introduces students through a series of classroom scenarios and drills to challenge the decision-making process before\, during\, and after a defensive shooting. Each student will learn problem-solving techniques and build confidence in their pistol handling skills. Additional information regarding the live-fire session is below.\nPrerequisite: Pistol Fundamentals with Live-Fire or equivalent.  \nWHAT YOU’LL NEED \n\nStudents will need to provide their own firearms.\nDouble or single mag pouch.\nParticipants will need 150 rounds of ammo for the live fire portion of this course.\nStudents will need their own holster (IWB or OWB). NO SERPA HOLSTERS\nStudents will need a concealed garment (jacket/vest/coat/shirt etc.).\n\nThis is a 6-hour course with a maximum class size of 12. Please remember to click to download and complete the TRAINING WAIVER.
URL:https://beararmstraining.com/event/defensive-pistol-i-august-8-2022/
LOCATION:Defensive Pistol 1\, Vint Hill Rd.\, Warrenton\, VA\, 20187\, United States
CATEGORIES:Defensive Pistol 1
ATTACH;FMTTYPE=image/jpeg:https://beararmstraining.com/wp-content/uploads/2022/06/4-1.jpg
ORGANIZER;CN="Nathan Bearfield":MAILTO:instructor@beararmstraining.com
END:VEVENT
END:VCALENDAR