BEGIN:VCALENDAR
VERSION:2.0
PRODID:-//Bear Arms Training - ECPv6.15.20//NONSGML v1.0//EN
CALSCALE:GREGORIAN
METHOD:PUBLISH
X-WR-CALNAME:Bear Arms Training
X-ORIGINAL-URL:https://beararmstraining.com
X-WR-CALDESC:Events for Bear Arms Training
REFRESH-INTERVAL;VALUE=DURATION:PT1H
X-Robots-Tag:noindex
X-PUBLISHED-TTL:PT1H
BEGIN:VTIMEZONE
TZID:America/New_York
BEGIN:DAYLIGHT
TZOFFSETFROM:-0500
TZOFFSETTO:-0400
TZNAME:EDT
DTSTART:20220313T070000
END:DAYLIGHT
BEGIN:STANDARD
TZOFFSETFROM:-0400
TZOFFSETTO:-0500
TZNAME:EST
DTSTART:20221106T060000
END:STANDARD
BEGIN:DAYLIGHT
TZOFFSETFROM:-0500
TZOFFSETTO:-0400
TZNAME:EDT
DTSTART:20230312T070000
END:DAYLIGHT
BEGIN:STANDARD
TZOFFSETFROM:-0400
TZOFFSETTO:-0500
TZNAME:EST
DTSTART:20231105T060000
END:STANDARD
BEGIN:DAYLIGHT
TZOFFSETFROM:-0500
TZOFFSETTO:-0400
TZNAME:EDT
DTSTART:20240310T070000
END:DAYLIGHT
BEGIN:STANDARD
TZOFFSETFROM:-0400
TZOFFSETTO:-0500
TZNAME:EST
DTSTART:20241103T060000
END:STANDARD
END:VTIMEZONE
BEGIN:VEVENT
DTSTART;TZID=America/New_York:20231128T080000
DTEND;TZID=America/New_York:20231128T170000
DTSTAMP:20260424T170811
CREATED:20230525T191641Z
LAST-MODIFIED:20230824T120715Z
UID:10000168-1701158400-1701190800@beararmstraining.com
SUMMARY:2-Day NRA Basics of Pistol Shooting- November 28th-29th
DESCRIPTION:Our 2-day NRA Basics of Pistol Shooting with live fire is perfect for students new to firearms and busy during the weekend. The student will build a foundation for firearm safety and knowledge in this course. Taught by a Certified NRA Instructor\, the student will participate in the live-fire training and nationally standardized shooting qualification. \nDay one: (5:30 pm-8:00 pm) The classroom portion (3 hours) covers pistol function\, safe firearm handling\, firearms storage\, ammunition selection\, and more. \nDay two: (5:30 pm-7:00 pm) The live fire portion of the course (1-2 hours). Students will then take their classroom knowledge onto a private range with a Certified Instructor. Completing this course qualifies you for a multi-state concealed carry permit issued by the State of Virginia. No previous firearm training is necessary\, and Bear Arms Training will provide all firearms and hearing protection included in purchasing this course. \n\nAmmo and the range fee are additional costs.\nParticipants need 50-100 rounds of ammo for the live fire portion of this course. Ammo is available at the range\, or students may bring their firearms and ammo.\nNo live ammo is permitted inside the classroom portion of the course.\nAll firearms must be cased and unloaded. NO EXCEPTIONS.\n\nThis is a 6-hour course with a maximum class size of 12 participants. Please remember to click to download and complete the TRAINING WAIVER.
URL:https://beararmstraining.com/event/2-day-nra-basics-of-pistol-shooting-november-28th-29th/
LOCATION:2-Day NRA Basics of Pistol Shooting\, 6317 Vint Hill Rd.\, Warrenton\, VA\, 20187\, United States
CATEGORIES:2-Day NRA Basics of Pistol Shooting
ATTACH;FMTTYPE=image/jpeg:https://beararmstraining.com/wp-content/uploads/2022/06/5-1.jpg
ORGANIZER;CN="James Pickering":MAILTO:james@beararmstraining.com
END:VEVENT
BEGIN:VEVENT
DTSTART;TZID=America/New_York:20231003T173000
DTEND;TZID=America/New_York:20231003T200000
DTSTAMP:20260424T170811
CREATED:20230525T191450Z
LAST-MODIFIED:20230824T115655Z
UID:10000167-1696354200-1696363200@beararmstraining.com
SUMMARY:2-Day NRA Basics of Pistol Shooting- October 3rd-4th
DESCRIPTION:Our 2-day NRA Basics of Pistol Shooting with live fire is perfect for students new to firearms and busy during the weekend. The student will build a foundation for firearm safety and knowledge in this course. Taught by a Certified NRA Instructor\, the student will participate in the live-fire training and nationally standardized shooting qualification. \nDay one: (5:30 pm-8:00 pm) The classroom portion (3 hours) covers pistol function\, safe firearm handling\, firearms storage\, ammunition selection\, and more. \nDay two: (5:30 pm-7:00 pm) The live fire portion of the course (1-2 hours). Students will then take their classroom knowledge onto a private range with a Certified Instructor. Completing this course qualifies you for a multi-state concealed carry permit issued by the State of Virginia. No previous firearm training is necessary\, and Bear Arms Training will provide all firearms and hearing protection included in purchasing this course. \n\nAmmo and the range fee are additional costs.\nParticipants need 50-100 rounds of ammo for the live fire portion of this course. Ammo is available at the range\, or students may bring their firearms and ammo.\nNo live ammo is permitted inside the classroom portion of the course.\nAll firearms must be cased and unloaded. NO EXCEPTIONS.\n\nThis is a 6-hour course with a maximum class size of 12 participants. Please remember to click to download and complete the TRAINING WAIVER.
URL:https://beararmstraining.com/event/2-day-nra-basics-of-pistol-shooting-october-3rd-4th/
LOCATION:2-Day NRA Basics of Pistol Shooting\, 6317 Vint Hill Rd.\, Warrenton\, VA\, 20187\, United States
CATEGORIES:2-Day NRA Basics of Pistol Shooting
ATTACH;FMTTYPE=image/jpeg:https://beararmstraining.com/wp-content/uploads/2022/06/5-1.jpg
ORGANIZER;CN="James Pickering":MAILTO:james@beararmstraining.com
END:VEVENT
BEGIN:VEVENT
DTSTART;TZID=America/New_York:20230808T173000
DTEND;TZID=America/New_York:20230808T200000
DTSTAMP:20260424T170811
CREATED:20230525T191236Z
LAST-MODIFIED:20230525T191236Z
UID:10000166-1691515800-1691524800@beararmstraining.com
SUMMARY:2-Day NRA Basics of Pistol Shooting- August 8th-9th
DESCRIPTION:Our 2-day NRA Basics of Pistol Shooting with live fire is perfect for students new to firearms and busy during the weekend. The student will build a foundation for firearm safety and knowledge in this course. Taught by a Certified NRA Instructor\, the student will participate in the live-fire training and nationally standardized shooting qualification. \nDay one: (5:30 pm-8:00 pm) The classroom portion (3 hours) covers pistol function\, safe firearm handling\, firearms storage\, ammunition selection\, and more. \nDay two: (5:30 pm-7:00 pm) The live fire portion of the course (1-2 hours). Students will then take their classroom knowledge onto a private range with a Certified Instructor. Completing this course qualifies you for a multi-state concealed carry permit issued by the State of Virginia. No previous firearm training is necessary\, and Bear Arms Training will provide all firearms and hearing protection included in purchasing this course. \n\nAmmo and the range fee are additional costs.\nParticipants need 50-100 rounds of ammo for the live fire portion of this course. Ammo is available at the range\, or students may bring their firearms and ammo.\nNo live ammo is permitted inside the classroom portion of the course.\nAll firearms must be cased and unloaded. NO EXCEPTIONS.\n\nThis is a 6-hour course with a maximum class size of 12 participants. Please remember to click to download and complete the TRAINING WAIVER.
URL:https://beararmstraining.com/event/2-day-nra-basics-of-pistol-shooting-august-8th-9th/
LOCATION:2-Day NRA Basics of Pistol Shooting\, 6317 Vint Hill Rd.\, Warrenton\, VA\, 20187\, United States
CATEGORIES:2-Day NRA Basics of Pistol Shooting
ATTACH;FMTTYPE=image/jpeg:https://beararmstraining.com/wp-content/uploads/2022/06/5-1.jpg
ORGANIZER;CN="James Pickering":MAILTO:james@beararmstraining.com
END:VEVENT
BEGIN:VEVENT
DTSTART;TZID=America/New_York:20230627T173000
DTEND;TZID=America/New_York:20230627T200000
DTSTAMP:20260424T170811
CREATED:20230525T190756Z
LAST-MODIFIED:20230525T190756Z
UID:10000165-1687887000-1687896000@beararmstraining.com
SUMMARY:2-Day NRA Basics of Pistol Shooting- June 27th-28th
DESCRIPTION:Our 2-day NRA Basics of Pistol Shooting with live fire is perfect for students new to firearms and busy during the weekend. The student will build a foundation for firearm safety and knowledge in this course. Taught by a Certified NRA Instructor\, the student will participate in the live-fire training and nationally standardized shooting qualification. \nDay one: (5:30 pm-8:00 pm) The classroom portion (3 hours) covers pistol function\, safe firearm handling\, firearms storage\, ammunition selection\, and more. \nDay two: (5:30 pm-7:00 pm) The live fire portion of the course (1-2 hours). Students will then take their classroom knowledge onto a private range with a Certified Instructor. Completing this course qualifies you for a multi-state concealed carry permit issued by the State of Virginia. No previous firearm training is necessary\, and Bear Arms Training will provide all firearms and hearing protection included in purchasing this course. \n\nAmmo and the range fee are additional costs.\nParticipants need 50-100 rounds of ammo for the live fire portion of this course. Ammo is available at the range\, or students may bring their firearms and ammo.\nNo live ammo is permitted inside the classroom portion of the course.\nAll firearms must be cased and unloaded. NO EXCEPTIONS.\n\nThis is a 6-hour course with a maximum class size of 12 participants. Please remember to click to download and complete the TRAINING WAIVER. \n 
URL:https://beararmstraining.com/event/2-day-nra-basics-of-pistol-shooting-june-27th-28th/
LOCATION:2-Day NRA Basics of Pistol Shooting\, 6317 Vint Hill Rd.\, Warrenton\, VA\, 20187\, United States
CATEGORIES:2-Day NRA Basics of Pistol Shooting
ATTACH;FMTTYPE=image/jpeg:https://beararmstraining.com/wp-content/uploads/2022/06/5-1.jpg
ORGANIZER;CN="James Pickering":MAILTO:james@beararmstraining.com
END:VEVENT
END:VCALENDAR