BEGIN:VCALENDAR
VERSION:2.0
PRODID:-//Bear Arms Training - ECPv6.15.20//NONSGML v1.0//EN
CALSCALE:GREGORIAN
METHOD:PUBLISH
X-ORIGINAL-URL:https://beararmstraining.com
X-WR-CALDESC:Events for Bear Arms Training
REFRESH-INTERVAL;VALUE=DURATION:PT1H
X-Robots-Tag:noindex
X-PUBLISHED-TTL:PT1H
BEGIN:VTIMEZONE
TZID:America/New_York
BEGIN:DAYLIGHT
TZOFFSETFROM:-0500
TZOFFSETTO:-0400
TZNAME:EDT
DTSTART:20220313T070000
END:DAYLIGHT
BEGIN:STANDARD
TZOFFSETFROM:-0400
TZOFFSETTO:-0500
TZNAME:EST
DTSTART:20221106T060000
END:STANDARD
BEGIN:DAYLIGHT
TZOFFSETFROM:-0500
TZOFFSETTO:-0400
TZNAME:EDT
DTSTART:20230312T070000
END:DAYLIGHT
BEGIN:STANDARD
TZOFFSETFROM:-0400
TZOFFSETTO:-0500
TZNAME:EST
DTSTART:20231105T060000
END:STANDARD
BEGIN:DAYLIGHT
TZOFFSETFROM:-0500
TZOFFSETTO:-0400
TZNAME:EDT
DTSTART:20240310T070000
END:DAYLIGHT
BEGIN:STANDARD
TZOFFSETFROM:-0400
TZOFFSETTO:-0500
TZNAME:EST
DTSTART:20241103T060000
END:STANDARD
END:VTIMEZONE
BEGIN:VEVENT
DTSTART;TZID=America/New_York:20230824T173000
DTEND;TZID=America/New_York:20230824T183000
DTSTAMP:20260424T212858
CREATED:20230525T125856Z
LAST-MODIFIED:20230525T125856Z
UID:10000135-1692898200-1692901800@beararmstraining.com
SUMMARY:1-on-1 Private Lesson (1-hour)
DESCRIPTION:Our Private Instruction Course is a one-hour closed session held in a private or semi-private setting and is taught by Certified Instructors. This course offers personalized training on your pistols and can be customized to meet your training needs. Our Private Instruction Course is designed for any shooter level. \nNo previous firearm training is required to enroll in the Private Instruction Course; however\, we recommend completing either the Pistol Fundamentals to maximize your private instruction experience. NO FIREARMS ARE NEEDED. Bear Arms Training provides all equipment.  \n\n\n\nAmmo and the range fee are additional costs. \nParticipants need 50-100 rounds of ammo for the live fire portion of this course. Ammo is available at the range\, or students may bring their firearms and ammo. 
URL:https://beararmstraining.com/event/1-on-1-private-lesson-1-hour-13/
LOCATION:1-on-1 Private Course (XCAL)\, 44950 Russel Branch Parkway\, Ashburn\, VA\, 20137\, United States
CATEGORIES:1-on-1 Private Course
ATTACH;FMTTYPE=image/jpeg:https://beararmstraining.com/wp-content/uploads/2022/06/6-1.jpg
ORGANIZER;CN="Nathan Bearfield":MAILTO:instructor@beararmstraining.com
END:VEVENT
BEGIN:VEVENT
DTSTART;TZID=America/New_York:20230824T160000
DTEND;TZID=America/New_York:20230824T170000
DTSTAMP:20260424T212858
CREATED:20230525T125710Z
LAST-MODIFIED:20230525T125710Z
UID:10000137-1692892800-1692896400@beararmstraining.com
SUMMARY:1-on-1 Private Lesson (1-hour)
DESCRIPTION:Our Private Instruction Course is a one-hour closed session held in a private or semi-private setting and is taught by Certified Instructors. This course offers personalized training on your pistols and can be customized to meet your training needs. Our Private Instruction Course is designed for any shooter level. \nNo previous firearm training is required to enroll in the Private Instruction Course; however\, we recommend completing either the Pistol Fundamentals to maximize your private instruction experience. NO FIREARMS ARE NEEDED. Bear Arms Training provides all equipment.  \n\n\n\nAmmo and the range fee are additional costs. \nParticipants need 50-100 rounds of ammo for the live fire portion of this course. Ammo is available at the range\, or students may bring their firearms and ammo. 
URL:https://beararmstraining.com/event/1-on-1-private-lesson-1-hour-12/
LOCATION:1-on-1 Private Course (XCAL)\, 44950 Russel Branch Parkway\, Ashburn\, VA\, 20137\, United States
CATEGORIES:1-on-1 Private Course
ATTACH;FMTTYPE=image/jpeg:https://beararmstraining.com/wp-content/uploads/2022/06/6-1.jpg
ORGANIZER;CN="Nathan Bearfield":MAILTO:instructor@beararmstraining.com
END:VEVENT
BEGIN:VEVENT
DTSTART;TZID=America/New_York:20230817T173000
DTEND;TZID=America/New_York:20230817T183000
DTSTAMP:20260424T212858
CREATED:20230525T125531Z
LAST-MODIFIED:20230525T125531Z
UID:10000136-1692293400-1692297000@beararmstraining.com
SUMMARY:1-on-1 Private Lesson
DESCRIPTION:Our Private Instruction Course is a one-hour closed session held in a private or semi-private setting and is taught by Certified Instructors. This course offers personalized training on your pistols and can be customized to meet your training needs. Our Private Instruction Course is designed for any shooter level. \nNo previous firearm training is required to enroll in the Private Instruction Course; however\, we recommend completing either the Pistol Fundamentals to maximize your private instruction experience. NO FIREARMS ARE NEEDED. Bear Arms Training provides all equipment.  \n\n\n\nAmmo and the range fee are additional costs. \nParticipants need 50-100 rounds of ammo for the live fire portion of this course. Ammo is available at the range\, or students may bring their firearms and ammo. 
URL:https://beararmstraining.com/event/1-on-1-private-lesson/
LOCATION:1-on-1 Private Course (XCAL)\, 44950 Russel Branch Parkway\, Ashburn\, VA\, 20137\, United States
CATEGORIES:1-on-1 Private Course
ATTACH;FMTTYPE=image/jpeg:https://beararmstraining.com/wp-content/uploads/2022/06/6-1.jpg
ORGANIZER;CN="Nathan Bearfield":MAILTO:instructor@beararmstraining.com
END:VEVENT
BEGIN:VEVENT
DTSTART;TZID=America/New_York:20230817T160000
DTEND;TZID=America/New_York:20230817T170000
DTSTAMP:20260424T212858
CREATED:20230525T125413Z
LAST-MODIFIED:20230525T125413Z
UID:10000134-1692288000-1692291600@beararmstraining.com
SUMMARY:1-on-1 Private Lesson (1-hour)
DESCRIPTION:Our Private Instruction Course is a one-hour closed session held in a private or semi-private setting and is taught by Certified Instructors. This course offers personalized training on your pistols and can be customized to meet your training needs. Our Private Instruction Course is designed for any shooter level. \nNo previous firearm training is required to enroll in the Private Instruction Course; however\, we recommend completing either the Pistol Fundamentals to maximize your private instruction experience. NO FIREARMS ARE NEEDED. Bear Arms Training provides all equipment.  \n\n\n\nAmmo and the range fee are additional costs. \nParticipants need 50-100 rounds of ammo for the live fire portion of this course. Ammo is available at the range\, or students may bring their firearms and ammo. 
URL:https://beararmstraining.com/event/1-on-1-private-lesson-1-hour-11/
LOCATION:1-on-1 Private Course (XCAL)\, 44950 Russel Branch Parkway\, Ashburn\, VA\, 20137\, United States
CATEGORIES:1-on-1 Private Course
ATTACH;FMTTYPE=image/jpeg:https://beararmstraining.com/wp-content/uploads/2022/06/6-1.jpg
ORGANIZER;CN="Nathan Bearfield":MAILTO:instructor@beararmstraining.com
END:VEVENT
BEGIN:VEVENT
DTSTART;TZID=America/New_York:20230810T173000
DTEND;TZID=America/New_York:20230810T183000
DTSTAMP:20260424T212858
CREATED:20230525T125229Z
LAST-MODIFIED:20230525T125229Z
UID:10000133-1691688600-1691692200@beararmstraining.com
SUMMARY:1-on-1 Private Lesson (1-hour)
DESCRIPTION:Our Private Instruction Course is a one-hour closed session held in a private or semi-private setting and is taught by Certified Instructors. This course offers personalized training on your pistols and can be customized to meet your training needs. Our Private Instruction Course is designed for any shooter level. \nNo previous firearm training is required to enroll in the Private Instruction Course; however\, we recommend completing either the Pistol Fundamentals to maximize your private instruction experience. NO FIREARMS ARE NEEDED. Bear Arms Training provides all equipment.  \n\n\n\nAmmo and the range fee are additional costs. \nParticipants need 50-100 rounds of ammo for the live fire portion of this course. Ammo is available at the range\, or students may bring their firearms and ammo. 
URL:https://beararmstraining.com/event/1-on-1-private-lesson-1-hour-10/
LOCATION:1-on-1 Private Course (XCAL)\, 44950 Russel Branch Parkway\, Ashburn\, VA\, 20137\, United States
CATEGORIES:1-on-1 Private Course
ATTACH;FMTTYPE=image/jpeg:https://beararmstraining.com/wp-content/uploads/2022/06/6-1.jpg
ORGANIZER;CN="Nathan Bearfield":MAILTO:instructor@beararmstraining.com
END:VEVENT
BEGIN:VEVENT
DTSTART;TZID=America/New_York:20230810T160000
DTEND;TZID=America/New_York:20230810T170000
DTSTAMP:20260424T212858
CREATED:20230525T125102Z
LAST-MODIFIED:20230525T125102Z
UID:10000131-1691683200-1691686800@beararmstraining.com
SUMMARY:1-on-1 Private Lesson (1-hour)
DESCRIPTION:Our Private Instruction Course is a one-hour closed session held in a private or semi-private setting and is taught by Certified Instructors. This course offers personalized training on your pistols and can be customized to meet your training needs. Our Private Instruction Course is designed for any shooter level. \nNo previous firearm training is required to enroll in the Private Instruction Course; however\, we recommend completing either the Pistol Fundamentals to maximize your private instruction experience. NO FIREARMS ARE NEEDED. Bear Arms Training provides all equipment.  \n\n\n\nAmmo and the range fee are additional costs. \nParticipants need 50-100 rounds of ammo for the live fire portion of this course. Ammo is available at the range\, or students may bring their firearms and ammo. 
URL:https://beararmstraining.com/event/1-on-1-private-lesson-1-hour-9/
LOCATION:1-on-1 Private Course (XCAL)\, 44950 Russel Branch Parkway\, Ashburn\, VA\, 20137\, United States
CATEGORIES:1-on-1 Private Course
ATTACH;FMTTYPE=image/jpeg:https://beararmstraining.com/wp-content/uploads/2022/06/6-1.jpg
ORGANIZER;CN="Nathan Bearfield":MAILTO:instructor@beararmstraining.com
END:VEVENT
BEGIN:VEVENT
DTSTART;TZID=America/New_York:20230803T173000
DTEND;TZID=America/New_York:20230803T183000
DTSTAMP:20260424T212858
CREATED:20230525T124921Z
LAST-MODIFIED:20230525T124921Z
UID:10000070-1691083800-1691087400@beararmstraining.com
SUMMARY:1-on-1 Private Lesson (1-hour)
DESCRIPTION:Our Private Instruction Course is a one-hour closed session held in a private or semi-private setting and is taught by Certified Instructors. This course offers personalized training on your pistols and can be customized to meet your training needs. Our Private Instruction Course is designed for any shooter level. \nNo previous firearm training is required to enroll in the Private Instruction Course; however\, we recommend completing either the Pistol Fundamentals to maximize your private instruction experience. NO FIREARMS ARE NEEDED. Bear Arms Training provides all equipment.  \n\n\n\nAmmo and the range fee are additional costs. \nParticipants need 50-100 rounds of ammo for the live fire portion of this course. Ammo is available at the range\, or students may bring their firearms and ammo. 
URL:https://beararmstraining.com/event/1-on-1-private-lesson-1-hour-8/
LOCATION:1-on-1 Private Course (XCAL)\, 44950 Russel Branch Parkway\, Ashburn\, VA\, 20137\, United States
CATEGORIES:1-on-1 Private Course
ATTACH;FMTTYPE=image/jpeg:https://beararmstraining.com/wp-content/uploads/2022/06/6-1.jpg
ORGANIZER;CN="Nathan Bearfield":MAILTO:instructor@beararmstraining.com
END:VEVENT
BEGIN:VEVENT
DTSTART;TZID=America/New_York:20230803T160000
DTEND;TZID=America/New_York:20230803T170000
DTSTAMP:20260424T212858
CREATED:20230525T124806Z
LAST-MODIFIED:20230525T124806Z
UID:10000069-1691078400-1691082000@beararmstraining.com
SUMMARY:1-on-1 Private Lesson (1-hour)
DESCRIPTION:Our Private Instruction Course is a one-hour closed session held in a private or semi-private setting and is taught by Certified Instructors. This course offers personalized training on your pistols and can be customized to meet your training needs. Our Private Instruction Course is designed for any shooter level. \nNo previous firearm training is required to enroll in the Private Instruction Course; however\, we recommend completing either the Pistol Fundamentals to maximize your private instruction experience. NO FIREARMS ARE NEEDED. Bear Arms Training provides all equipment.  \n\n\n\nAmmo and the range fee are additional costs. \nParticipants need 50-100 rounds of ammo for the live fire portion of this course. Ammo is available at the range\, or students may bring their firearms and ammo. 
URL:https://beararmstraining.com/event/1-on-1-private-lesson-1-hour-7/
LOCATION:1-on-1 Private Course (XCAL)\, 44950 Russel Branch Parkway\, Ashburn\, VA\, 20137\, United States
CATEGORIES:1-on-1 Private Course
ATTACH;FMTTYPE=image/jpeg:https://beararmstraining.com/wp-content/uploads/2022/06/6-1.jpg
ORGANIZER;CN="Nathan Bearfield":MAILTO:instructor@beararmstraining.com
END:VEVENT
BEGIN:VEVENT
DTSTART;TZID=America/New_York:20230727T173000
DTEND;TZID=America/New_York:20230727T183000
DTSTAMP:20260424T212858
CREATED:20230525T124638Z
LAST-MODIFIED:20230525T124638Z
UID:10000067-1690479000-1690482600@beararmstraining.com
SUMMARY:1-on-1 Private Lesson (1-hour)
DESCRIPTION:Our Private Instruction Course is a one-hour closed session held in a private or semi-private setting and is taught by Certified Instructors. This course offers personalized training on your pistols and can be customized to meet your training needs. Our Private Instruction Course is designed for any shooter level. \nNo previous firearm training is required to enroll in the Private Instruction Course; however\, we recommend completing either the Pistol Fundamentals to maximize your private instruction experience. NO FIREARMS ARE NEEDED. Bear Arms Training provides all equipment.  \n\n\n\nAmmo and the range fee are additional costs. \nParticipants need 50-100 rounds of ammo for the live fire portion of this course. Ammo is available at the range\, or students may bring their firearms and ammo. 
URL:https://beararmstraining.com/event/1-on-1-private-lesson-1-hour-6/
LOCATION:1-on-1 Private Course (XCAL)\, 44950 Russel Branch Parkway\, Ashburn\, VA\, 20137\, United States
CATEGORIES:1-on-1 Private Course
ATTACH;FMTTYPE=image/jpeg:https://beararmstraining.com/wp-content/uploads/2022/06/6-1.jpg
ORGANIZER;CN="Nathan Bearfield":MAILTO:instructor@beararmstraining.com
END:VEVENT
BEGIN:VEVENT
DTSTART;TZID=America/New_York:20230727T160000
DTEND;TZID=America/New_York:20230727T170000
DTSTAMP:20260424T212858
CREATED:20230525T124513Z
LAST-MODIFIED:20230525T124513Z
UID:10000065-1690473600-1690477200@beararmstraining.com
SUMMARY:1-on-1 Private Lesson (1-hour)
DESCRIPTION:Our Private Instruction Course is a one-hour closed session held in a private or semi-private setting and is taught by Certified Instructors. This course offers personalized training on your pistols and can be customized to meet your training needs. Our Private Instruction Course is designed for any shooter level. \nNo previous firearm training is required to enroll in the Private Instruction Course; however\, we recommend completing either the Pistol Fundamentals to maximize your private instruction experience. NO FIREARMS ARE NEEDED. Bear Arms Training provides all equipment.  \n\n\n\nAmmo and the range fee are additional costs. \nParticipants need 50-100 rounds of ammo for the live fire portion of this course. Ammo is available at the range\, or students may bring their firearms and ammo. 
URL:https://beararmstraining.com/event/1-on-1-private-lesson-1-hour-5/
LOCATION:1-on-1 Private Course (XCAL)\, 44950 Russel Branch Parkway\, Ashburn\, VA\, 20137\, United States
CATEGORIES:1-on-1 Private Course
ATTACH;FMTTYPE=image/jpeg:https://beararmstraining.com/wp-content/uploads/2022/06/6-1.jpg
ORGANIZER;CN="Nathan Bearfield":MAILTO:instructor@beararmstraining.com
END:VEVENT
BEGIN:VEVENT
DTSTART;TZID=America/New_York:20230720T173000
DTEND;TZID=America/New_York:20230720T183000
DTSTAMP:20260424T212858
CREATED:20230525T124251Z
LAST-MODIFIED:20230525T124251Z
UID:10000063-1689874200-1689877800@beararmstraining.com
SUMMARY:1-on-1 Private Lesson (1-hour)
DESCRIPTION:Our Private Instruction Course is a one-hour closed session held in a private or semi-private setting and is taught by Certified Instructors. This course offers personalized training on your pistols and can be customized to meet your training needs. Our Private Instruction Course is designed for any shooter level. \nNo previous firearm training is required to enroll in the Private Instruction Course; however\, we recommend completing either the Pistol Fundamentals to maximize your private instruction experience. NO FIREARMS ARE NEEDED. Bear Arms Training provides all equipment.  \n\n\n\nAmmo and the range fee are additional costs. \nParticipants need 50-100 rounds of ammo for the live fire portion of this course. Ammo is available at the range\, or students may bring their firearms and ammo. 
URL:https://beararmstraining.com/event/1-on-1-private-lesson-1-hour-4/
LOCATION:1-on-1 Private Course (XCAL)\, 44950 Russel Branch Parkway\, Ashburn\, VA\, 20137\, United States
CATEGORIES:1-on-1 Private Course
ATTACH;FMTTYPE=image/jpeg:https://beararmstraining.com/wp-content/uploads/2022/06/6-1.jpg
ORGANIZER;CN="Nathan Bearfield":MAILTO:instructor@beararmstraining.com
END:VEVENT
BEGIN:VEVENT
DTSTART;TZID=America/New_York:20230720T160000
DTEND;TZID=America/New_York:20230720T170000
DTSTAMP:20260424T212858
CREATED:20230525T124107Z
LAST-MODIFIED:20230525T124136Z
UID:10000061-1689868800-1689872400@beararmstraining.com
SUMMARY:1-on-1 Private Lesson (1-hour)
DESCRIPTION:Our Private Instruction Course is a one-hour closed session held in a private or semi-private setting and is taught by Certified Instructors. This course offers personalized training on your pistols and can be customized to meet your training needs. Our Private Instruction Course is designed for any shooter level. \nNo previous firearm training is required to enroll in the Private Instruction Course; however\, we recommend completing either the Pistol Fundamentals to maximize your private instruction experience. NO FIREARMS ARE NEEDED. Bear Arms Training provides all equipment.  \n\n\n\nAmmo and the range fee are additional costs. \nParticipants need 50-100 rounds of ammo for the live fire portion of this course. Ammo is available at the range\, or students may bring their firearms and ammo. 
URL:https://beararmstraining.com/event/1-on-1-private-lesson-1-hour-3/
LOCATION:1-on-1 Private Course (XCAL)\, 44950 Russel Branch Parkway\, Ashburn\, VA\, 20137\, United States
CATEGORIES:1-on-1 Private Course
ATTACH;FMTTYPE=image/jpeg:https://beararmstraining.com/wp-content/uploads/2022/06/6-1.jpg
ORGANIZER;CN="Nathan Bearfield":MAILTO:instructor@beararmstraining.com
END:VEVENT
BEGIN:VEVENT
DTSTART;TZID=America/New_York:20230713T173000
DTEND;TZID=America/New_York:20230713T183000
DTSTAMP:20260424T212858
CREATED:20230525T123908Z
LAST-MODIFIED:20230525T123953Z
UID:10000059-1689269400-1689273000@beararmstraining.com
SUMMARY:1-on-1 Private Lesson (1-hour)
DESCRIPTION:Our Private Instruction Course is a one-hour closed session held in a private or semi-private setting and is taught by Certified Instructors. This course offers personalized training on your pistols and can be customized to meet your training needs. Our Private Instruction Course is designed for any shooter level. \nNo previous firearm training is required to enroll in the Private Instruction Course; however\, we recommend completing either the Pistol Fundamentals to maximize your private instruction experience. NO FIREARMS ARE NEEDED. Bear Arms Training provides all equipment.  \n\n\n\nAmmo and the range fee are additional costs. \nParticipants need 50-100 rounds of ammo for the live fire portion of this course. Ammo is available at the range\, or students may bring their firearms and ammo. 
URL:https://beararmstraining.com/event/1-on-1-private-lesson-1-hour-2/
LOCATION:1-on-1 Private Course (XCAL)\, 44950 Russel Branch Parkway\, Ashburn\, VA\, 20137\, United States
CATEGORIES:1-on-1 Private Course
ATTACH;FMTTYPE=image/jpeg:https://beararmstraining.com/wp-content/uploads/2022/06/6-1.jpg
ORGANIZER;CN="Nathan Bearfield":MAILTO:instructor@beararmstraining.com
END:VEVENT
BEGIN:VEVENT
DTSTART;TZID=America/New_York:20230713T160000
DTEND;TZID=America/New_York:20230713T170000
DTSTAMP:20260424T212858
CREATED:20230525T123745Z
LAST-MODIFIED:20230525T123745Z
UID:10000057-1689264000-1689267600@beararmstraining.com
SUMMARY:1-on-1 Private Lesson (1-hour)
DESCRIPTION:Our Private Instruction Course is a one-hour closed session held in a private or semi-private setting and is taught by Certified Instructors. This course offers personalized training on your pistols and can be customized to meet your training needs. Our Private Instruction Course is designed for any shooter level. \nNo previous firearm training is required to enroll in the Private Instruction Course; however\, we recommend completing either the Pistol Fundamentals to maximize your private instruction experience. NO FIREARMS ARE NEEDED. Bear Arms Training provides all equipment.  \n\n\n\nAmmo and the range fee are additional costs. \nParticipants need 50-100 rounds of ammo for the live fire portion of this course. Ammo is available at the range\, or students may bring their firearms and ammo. 
URL:https://beararmstraining.com/event/1-on-1-private-lesson-1-hour/
LOCATION:1-on-1 Private Course (XCAL)\, 44950 Russel Branch Parkway\, Ashburn\, VA\, 20137\, United States
CATEGORIES:1-on-1 Private Course
ATTACH;FMTTYPE=image/jpeg:https://beararmstraining.com/wp-content/uploads/2022/06/6-1.jpg
ORGANIZER;CN="Nathan Bearfield":MAILTO:instructor@beararmstraining.com
END:VEVENT
BEGIN:VEVENT
DTSTART;TZID=America/New_York:20230706T173000
DTEND;TZID=America/New_York:20230706T183000
DTSTAMP:20260424T212858
CREATED:20230525T122708Z
LAST-MODIFIED:20230525T123221Z
UID:10000055-1688664600-1688668200@beararmstraining.com
SUMMARY:1-on-1 Private Lesson (1-hour)
DESCRIPTION:Our Private Instruction Course is a one-hour closed session held in a private or semi-private setting and is taught by Certified Instructors. This course offers personalized training on your pistols and can be customized to meet your training needs. Our Private Instruction Course is designed for any shooter level. \nNo previous firearm training is required to enroll in the Private Instruction Course; however\, we recommend completing either the Pistol Fundamentals to maximize your private instruction experience. NO FIREARMS ARE NEEDED. Bear Arms Training provides all equipment.  \n\n\n\nAmmo and the range fee are additional costs. \nParticipants need 50-100 rounds of ammo for the live fire portion of this course. Ammo is available at the range\, or students may bring their firearms and ammo. 
URL:https://beararmstraining.com/event/1-on-1-private-lesson-1-hour-july-13th/
LOCATION:1-on-1 Private Course (XCAL)\, 44950 Russel Branch Parkway\, Ashburn\, VA\, 20137\, United States
CATEGORIES:1-on-1 Private Course
ATTACH;FMTTYPE=image/jpeg:https://beararmstraining.com/wp-content/uploads/2022/06/6-1.jpg
ORGANIZER;CN="Nathan Bearfield":MAILTO:instructor@beararmstraining.com
END:VEVENT
BEGIN:VEVENT
DTSTART;TZID=America/New_York:20230706T160000
DTEND;TZID=America/New_York:20230706T170000
DTSTAMP:20260424T212858
CREATED:20230525T121814Z
LAST-MODIFIED:20230525T123009Z
UID:10000053-1688659200-1688662800@beararmstraining.com
SUMMARY:1-on-1 Private Lesson (1-hour)
DESCRIPTION:Our Private Instruction Course is a one-hour closed session held in a private or semi-private setting and is taught by Certified Instructors. This course offers personalized training on your pistols and can be customized to meet your training needs. Our Private Instruction Course is designed for any shooter level. \nNo previous firearm training is required to enroll in the Private Instruction Course; however\, we recommend completing either the Pistol Fundamentals to maximize your private instruction experience. NO FIREARMS ARE NEEDED. Bear Arms Training provides all equipment.  \n\n\n\nAmmo and the range fee are additional costs. \nParticipants need 50-100 rounds of ammo for the live fire portion of this course. Ammo is available at the range\, or students may bring their firearms and ammo. \n\n\n\n 
URL:https://beararmstraining.com/event/1-on-1-private-lesson-1-hour-july-7th/
LOCATION:1-on-1 Private Course (XCAL)\, 44950 Russel Branch Parkway\, Ashburn\, VA\, 20137\, United States
CATEGORIES:1-on-1 Private Course
ATTACH;FMTTYPE=image/jpeg:https://beararmstraining.com/wp-content/uploads/2022/06/6-1.jpg
ORGANIZER;CN="Nathan Bearfield":MAILTO:instructor@beararmstraining.com
END:VEVENT
END:VCALENDAR