BEGIN:VCALENDAR
VERSION:2.0
PRODID:-//Bear Arms Training - ECPv6.15.20//NONSGML v1.0//EN
CALSCALE:GREGORIAN
METHOD:PUBLISH
X-ORIGINAL-URL:https://beararmstraining.com
X-WR-CALDESC:Events for Bear Arms Training
REFRESH-INTERVAL;VALUE=DURATION:PT1H
X-Robots-Tag:noindex
X-PUBLISHED-TTL:PT1H

BEGIN:VEVENT
DTSTART;TZID=America/New_York:02001001T080000
DTEND;TZID=America/New_York:02001001T140000
DTSTAMP:20260425T200502
CREATED:20220612T175053Z
LAST-MODIFIED:20220612T175053Z
UID:10000103--55832169600--55832148000@beararmstraining.com
SUMMARY:Ladies First - October 1\, 2022
DESCRIPTION:The Ladies First Course is taught by an NRA Certified Instructor and qualifies you for your Virginia conceal carry permit. Sorry\, guys\, this one is for the ladies. This is one of the most popular courses we offer!In addition to the classroom portion of this course\, the student will participate in the live-fire training and nationally standardized shooting qualification alongside an NRA Certified Instructor. Upon successful completion of this course\, the student will be eligible for her concealed carry permit. The live-fire session of this course will be conducted at one of our partnered ranges and will take place at the end of the course.\nNO FIREARM NEEDED. Bear Arms Training will provide!\nParticipants need 50 rounds of ammo for the live-fire portion of this course. Ammo is available for purchase at the range.\nNo live ammo is permitted inside of the classroom portion of the course.\nAll firearms must be cased and unloaded. NO EXCEPTIONS.\nAMMO IS NOT INCLUDED IN COURSE.\n3-Hour Classroom 1-Hour Live-Fire Range Session Minmum: 4 persons Maximum: 12 persons
URL:https://beararmstraining.com/event/ladies-first-october-1-2022/
LOCATION:Ladies First\, 6317 Vint Hill Rd.\, Warrenton\, VA\, 20187\, United States
ATTACH;FMTTYPE=image/jpeg:https://beararmstraining.com/wp-content/uploads/2022/06/ladies-first-featured-image.jpg
ORGANIZER;CN="Nathan Bearfield":MAILTO:instructor@beararmstraining.com
END:VEVENT
END:VCALENDAR