BEGIN:VCALENDAR
VERSION:2.0
PRODID:-//Bear Arms Training - ECPv6.15.20//NONSGML v1.0//EN
CALSCALE:GREGORIAN
METHOD:PUBLISH
X-ORIGINAL-URL:https://beararmstraining.com
X-WR-CALDESC:Events for Bear Arms Training
REFRESH-INTERVAL;VALUE=DURATION:PT1H
X-Robots-Tag:noindex
X-PUBLISHED-TTL:PT1H
BEGIN:VTIMEZONE
TZID:America/New_York
BEGIN:DAYLIGHT
TZOFFSETFROM:-0500
TZOFFSETTO:-0400
TZNAME:EDT
DTSTART:20220313T070000
END:DAYLIGHT
BEGIN:STANDARD
TZOFFSETFROM:-0400
TZOFFSETTO:-0500
TZNAME:EST
DTSTART:20221106T060000
END:STANDARD
BEGIN:DAYLIGHT
TZOFFSETFROM:-0500
TZOFFSETTO:-0400
TZNAME:EDT
DTSTART:20230312T070000
END:DAYLIGHT
BEGIN:STANDARD
TZOFFSETFROM:-0400
TZOFFSETTO:-0500
TZNAME:EST
DTSTART:20231105T060000
END:STANDARD
BEGIN:DAYLIGHT
TZOFFSETFROM:-0500
TZOFFSETTO:-0400
TZNAME:EDT
DTSTART:20240310T070000
END:DAYLIGHT
BEGIN:STANDARD
TZOFFSETFROM:-0400
TZOFFSETTO:-0500
TZNAME:EST
DTSTART:20241103T060000
END:STANDARD
END:VTIMEZONE
BEGIN:VEVENT
DTSTART;TZID=America/New_York:20231212T173000
DTEND;TZID=America/New_York:20231212T200000
DTSTAMP:20260424T163605
CREATED:20230525T184004Z
LAST-MODIFIED:20230824T120440Z
UID:10000164-1702402200-1702411200@beararmstraining.com
SUMMARY:2-Day Ladies First Course- December 12th-13th
DESCRIPTION:Our 2-day Ladies Only Course is perfect for students new to firearms and busy during the weekend. The student will build a foundation for firearm safety and knowledge in this course. \nDay one: (5:30 pm-8:00 pm) The classroom portion (2-3 hours) covers pistol function\, safe firearm handling\, firearms storage\, ammunition selection\, and more. \nDay two: (5:30 pm-7:00 pm) The live fire portion of the course (1-2 hours). Students will then take their classroom knowledge onto a private range with a Certified Instructor. Completing this course qualifies you for a multi-state concealed carry permit issued by the State of Virginia. No previous firearm training is necessary\, and Bear Arms Training will provide all firearms and hearing protection included in purchasing this course. \n\nAmmo and the range fee are additional costs.\nParticipants need 50-100 rounds of ammo for the live fire portion of this course. Ammo is available at the range\, or students may bring their firearms and ammo.\nNo live ammo is permitted inside the classroom portion of the course.\nAll firearms must be cased and unloaded. NO EXCEPTIONS.\n\nThis is a 4-hour course with a maximum class size of 12 participants. Please remember to click to download and complete the TRAINING WAIVER.
URL:https://beararmstraining.com/event/2-day-ladies-first-course-december-12th-13th/
LOCATION:2-Day Ladies First Course\, 6317 Vint Hill Rd.\, Warrenton\, VA\, 20187\, United States
CATEGORIES:2-Day Ladies First Course
ATTACH;FMTTYPE=image/jpeg:https://beararmstraining.com/wp-content/uploads/2022/06/ladies-first-featured-image.jpg
ORGANIZER;CN="James Pickering":MAILTO:james@beararmstraining.com
END:VEVENT
BEGIN:VEVENT
DTSTART;TZID=America/New_York:20231128T080000
DTEND;TZID=America/New_York:20231128T170000
DTSTAMP:20260424T163605
CREATED:20230525T191641Z
LAST-MODIFIED:20230824T120715Z
UID:10000168-1701158400-1701190800@beararmstraining.com
SUMMARY:2-Day NRA Basics of Pistol Shooting- November 28th-29th
DESCRIPTION:Our 2-day NRA Basics of Pistol Shooting with live fire is perfect for students new to firearms and busy during the weekend. The student will build a foundation for firearm safety and knowledge in this course. Taught by a Certified NRA Instructor\, the student will participate in the live-fire training and nationally standardized shooting qualification. \nDay one: (5:30 pm-8:00 pm) The classroom portion (3 hours) covers pistol function\, safe firearm handling\, firearms storage\, ammunition selection\, and more. \nDay two: (5:30 pm-7:00 pm) The live fire portion of the course (1-2 hours). Students will then take their classroom knowledge onto a private range with a Certified Instructor. Completing this course qualifies you for a multi-state concealed carry permit issued by the State of Virginia. No previous firearm training is necessary\, and Bear Arms Training will provide all firearms and hearing protection included in purchasing this course. \n\nAmmo and the range fee are additional costs.\nParticipants need 50-100 rounds of ammo for the live fire portion of this course. Ammo is available at the range\, or students may bring their firearms and ammo.\nNo live ammo is permitted inside the classroom portion of the course.\nAll firearms must be cased and unloaded. NO EXCEPTIONS.\n\nThis is a 6-hour course with a maximum class size of 12 participants. Please remember to click to download and complete the TRAINING WAIVER.
URL:https://beararmstraining.com/event/2-day-nra-basics-of-pistol-shooting-november-28th-29th/
LOCATION:2-Day NRA Basics of Pistol Shooting\, 6317 Vint Hill Rd.\, Warrenton\, VA\, 20187\, United States
CATEGORIES:2-Day NRA Basics of Pistol Shooting
ATTACH;FMTTYPE=image/jpeg:https://beararmstraining.com/wp-content/uploads/2022/06/5-1.jpg
ORGANIZER;CN="James Pickering":MAILTO:james@beararmstraining.com
END:VEVENT
BEGIN:VEVENT
DTSTART;TZID=America/New_York:20231114T173000
DTEND;TZID=America/New_York:20231114T200000
DTSTAMP:20260424T163605
CREATED:20230525T183301Z
LAST-MODIFIED:20230824T120314Z
UID:10000162-1699983000-1699992000@beararmstraining.com
SUMMARY:2-Day Ladies First Course- November 14th-15th
DESCRIPTION:Our 2-day Ladies Only Course is perfect for students new to firearms and busy during the weekend. The student will build a foundation for firearm safety and knowledge in this course. \nDay one: (5:30 pm-8:00 pm) The classroom portion (2-3 hours) covers pistol function\, safe firearm handling\, firearms storage\, ammunition selection\, and more. \nDay two: (5:30 pm-7:00 pm) The live fire portion of the course (1-2 hours). Students will then take their classroom knowledge onto a private range with a Certified Instructor. Completing this course qualifies you for a multi-state concealed carry permit issued by the State of Virginia. No previous firearm training is necessary\, and Bear Arms Training will provide all firearms and hearing protection included in purchasing this course. \n\nAmmo and the range fee are additional costs.\nParticipants need 50-100 rounds of ammo for the live fire portion of this course. Ammo is available at the range\, or students may bring their firearms and ammo.\nNo live ammo is permitted inside the classroom portion of the course.\nAll firearms must be cased and unloaded. NO EXCEPTIONS.\n\nThis is a 4-hour course with a maximum class size of 12 participants. Please remember to click to download and complete the TRAINING WAIVER.
URL:https://beararmstraining.com/event/2-day-ladies-first-course-november-14th-15th/
LOCATION:2-Day Ladies First Course\, 6317 Vint Hill Rd.\, Warrenton\, VA\, 20187\, United States
CATEGORIES:2-Day Ladies First Course
ATTACH;FMTTYPE=image/jpeg:https://beararmstraining.com/wp-content/uploads/2022/06/ladies-first-featured-image.jpg
ORGANIZER;CN="James Pickering":MAILTO:james@beararmstraining.com
END:VEVENT
BEGIN:VEVENT
DTSTART;TZID=America/New_York:20231003T173000
DTEND;TZID=America/New_York:20231003T200000
DTSTAMP:20260424T163605
CREATED:20230525T191450Z
LAST-MODIFIED:20230824T115655Z
UID:10000167-1696354200-1696363200@beararmstraining.com
SUMMARY:2-Day NRA Basics of Pistol Shooting- October 3rd-4th
DESCRIPTION:Our 2-day NRA Basics of Pistol Shooting with live fire is perfect for students new to firearms and busy during the weekend. The student will build a foundation for firearm safety and knowledge in this course. Taught by a Certified NRA Instructor\, the student will participate in the live-fire training and nationally standardized shooting qualification. \nDay one: (5:30 pm-8:00 pm) The classroom portion (3 hours) covers pistol function\, safe firearm handling\, firearms storage\, ammunition selection\, and more. \nDay two: (5:30 pm-7:00 pm) The live fire portion of the course (1-2 hours). Students will then take their classroom knowledge onto a private range with a Certified Instructor. Completing this course qualifies you for a multi-state concealed carry permit issued by the State of Virginia. No previous firearm training is necessary\, and Bear Arms Training will provide all firearms and hearing protection included in purchasing this course. \n\nAmmo and the range fee are additional costs.\nParticipants need 50-100 rounds of ammo for the live fire portion of this course. Ammo is available at the range\, or students may bring their firearms and ammo.\nNo live ammo is permitted inside the classroom portion of the course.\nAll firearms must be cased and unloaded. NO EXCEPTIONS.\n\nThis is a 6-hour course with a maximum class size of 12 participants. Please remember to click to download and complete the TRAINING WAIVER.
URL:https://beararmstraining.com/event/2-day-nra-basics-of-pistol-shooting-october-3rd-4th/
LOCATION:2-Day NRA Basics of Pistol Shooting\, 6317 Vint Hill Rd.\, Warrenton\, VA\, 20187\, United States
CATEGORIES:2-Day NRA Basics of Pistol Shooting
ATTACH;FMTTYPE=image/jpeg:https://beararmstraining.com/wp-content/uploads/2022/06/5-1.jpg
ORGANIZER;CN="James Pickering":MAILTO:james@beararmstraining.com
END:VEVENT
BEGIN:VEVENT
DTSTART;TZID=America/New_York:20230919T173000
DTEND;TZID=America/New_York:20230919T200000
DTSTAMP:20260424T163605
CREATED:20230525T182845Z
LAST-MODIFIED:20230824T115533Z
UID:10000163-1695144600-1695153600@beararmstraining.com
SUMMARY:2-Day Ladies First Course- September 19th-20th
DESCRIPTION:Our 2-day Ladies Only Course is perfect for students new to firearms and busy during the weekend. The student will build a foundation for firearm safety and knowledge in this course. \nDay one: (5:30 pm-8:00 pm) The classroom portion (2-3 hours) covers pistol function\, safe firearm handling\, firearms storage\, ammunition selection\, and more. \nDay two: (5:30 pm-7:00 pm) The live fire portion of the course (1-2 hours). Students will then take their classroom knowledge onto a private range with a Certified Instructor. Completing this course qualifies you for a multi-state concealed carry permit issued by the State of Virginia. No previous firearm training is necessary\, and Bear Arms Training will provide all firearms and hearing protection included in purchasing this course. \n\nAmmo and the range fee are additional costs.\nParticipants need 50-100 rounds of ammo for the live fire portion of this course. Ammo is available at the range\, or students may bring their firearms and ammo.\nNo live ammo is permitted inside the classroom portion of the course.\nAll firearms must be cased and unloaded. NO EXCEPTIONS.\n\nThis is a 4-hour course with a maximum class size of 12 participants. Please remember to click to download and complete the TRAINING WAIVER.
URL:https://beararmstraining.com/event/2-day-ladies-first-course-september-19th-20th/
LOCATION:2-Day Ladies First Course\, 6317 Vint Hill Rd.\, Warrenton\, VA\, 20187\, United States
CATEGORIES:2-Day Ladies First Course
ATTACH;FMTTYPE=image/jpeg:https://beararmstraining.com/wp-content/uploads/2022/06/ladies-first-featured-image.jpg
ORGANIZER;CN="James Pickering":MAILTO:james@beararmstraining.com
END:VEVENT
BEGIN:VEVENT
DTSTART;TZID=America/New_York:20230905T173000
DTEND;TZID=America/New_York:20230905T200000
DTSTAMP:20260424T163605
CREATED:20230525T174521Z
LAST-MODIFIED:20230828T185459Z
UID:10000158-1693935000-1693944000@beararmstraining.com
SUMMARY:2-Day Pistol Fundamentals- September 5th-6th
DESCRIPTION:Our 2-day Pistol Fundamentals Course with live fire is perfect for students new to firearms and busy during the weekend. The student will build a foundation for firearm safety and knowledge in this course. \nDay one: (5:30 pm-8:00 pm) The classroom portion (2-3 hours) covers pistol function\, safe firearm handling\, firearms storage\, ammunition selection\, and more. \nDay two: (5:30 pm-7:00 pm) The live fire portion of the course (1-2 hours). Students will then take their classroom knowledge onto a private range with a Certified Instructor. Completing this course qualifies you for a multi-state concealed carry permit issued by the State of Virginia. No previous firearm training is necessary\, and Bear Arms Training will provide all firearms and hearing protection included in purchasing this course. \n\nAmmo and the range fee are additional costs.\nParticipants need 50-100 rounds of ammo for the live fire portion of this course. Ammo is available at the range\, or students may bring their firearms and ammo.\nNo live ammo is permitted inside the classroom portion of the course.\nAll firearms must be cased and unloaded. NO EXCEPTIONS.\n\nThis is a 4-hour course with a maximum class size of 12 participants. Please remember to click to download and complete the TRAINING WAIVER.
URL:https://beararmstraining.com/event/2-day-pistol-fundamentals-september-5th-6th/
LOCATION:2-Day Pistol Fundamentals\, 6317 Vint Hill Rd.\, Warrenton\, VA\, 20187\, United States
CATEGORIES:2-Day Pistol Fundamentals
ATTACH;FMTTYPE=image/jpeg:https://beararmstraining.com/wp-content/uploads/2022/06/Pistol-Fundamentals-WITH-Live-Fire.jpg
ORGANIZER;CN="James Pickering":MAILTO:james@beararmstraining.com
END:VEVENT
BEGIN:VEVENT
DTSTART;TZID=America/New_York:20230822T173000
DTEND;TZID=America/New_York:20230822T200000
DTSTAMP:20260424T163605
CREATED:20230525T182232Z
LAST-MODIFIED:20230525T182232Z
UID:10000161-1692725400-1692734400@beararmstraining.com
SUMMARY:2 Day Ladies First Course- August 22nd-23rd
DESCRIPTION:Our 2-day Ladies Only Course is perfect for students new to firearms and busy during the weekend. The student will build a foundation for firearm safety and knowledge in this course. \nDay one: (5:30 pm-8:00 pm) The classroom portion (2-3 hours) covers pistol function\, safe firearm handling\, firearms storage\, ammunition selection\, and more. \nDay two: (5:30 pm-7:00 pm) The live fire portion of the course (1-2 hours). Students will then take their classroom knowledge onto a private range with a Certified Instructor. Completing this course qualifies you for a multi-state concealed carry permit issued by the State of Virginia. No previous firearm training is necessary\, and Bear Arms Training will provide all firearms and hearing protection included in purchasing this course. \n\nAmmo and the range fee are additional costs.\nParticipants need 50-100 rounds of ammo for the live fire portion of this course. Ammo is available at the range\, or students may bring their firearms and ammo.\nNo live ammo is permitted inside the classroom portion of the course.\nAll firearms must be cased and unloaded. NO EXCEPTIONS.\n\nThis is a 4-hour course with a maximum class size of 12 participants. Please remember to click to download and complete the TRAINING WAIVER.
URL:https://beararmstraining.com/event/2-day-ladies-first-course-august-22nd-23rd/
LOCATION:2-Day Ladies First Course\, 6317 Vint Hill Rd.\, Warrenton\, VA\, 20187\, United States
CATEGORIES:2-Day Ladies First Course
ATTACH;FMTTYPE=image/jpeg:https://beararmstraining.com/wp-content/uploads/2022/06/ladies-first-featured-image.jpg
ORGANIZER;CN="James Pickering":MAILTO:james@beararmstraining.com
END:VEVENT
BEGIN:VEVENT
DTSTART;TZID=America/New_York:20230808T173000
DTEND;TZID=America/New_York:20230808T200000
DTSTAMP:20260424T163605
CREATED:20230525T191236Z
LAST-MODIFIED:20230525T191236Z
UID:10000166-1691515800-1691524800@beararmstraining.com
SUMMARY:2-Day NRA Basics of Pistol Shooting- August 8th-9th
DESCRIPTION:Our 2-day NRA Basics of Pistol Shooting with live fire is perfect for students new to firearms and busy during the weekend. The student will build a foundation for firearm safety and knowledge in this course. Taught by a Certified NRA Instructor\, the student will participate in the live-fire training and nationally standardized shooting qualification. \nDay one: (5:30 pm-8:00 pm) The classroom portion (3 hours) covers pistol function\, safe firearm handling\, firearms storage\, ammunition selection\, and more. \nDay two: (5:30 pm-7:00 pm) The live fire portion of the course (1-2 hours). Students will then take their classroom knowledge onto a private range with a Certified Instructor. Completing this course qualifies you for a multi-state concealed carry permit issued by the State of Virginia. No previous firearm training is necessary\, and Bear Arms Training will provide all firearms and hearing protection included in purchasing this course. \n\nAmmo and the range fee are additional costs.\nParticipants need 50-100 rounds of ammo for the live fire portion of this course. Ammo is available at the range\, or students may bring their firearms and ammo.\nNo live ammo is permitted inside the classroom portion of the course.\nAll firearms must be cased and unloaded. NO EXCEPTIONS.\n\nThis is a 6-hour course with a maximum class size of 12 participants. Please remember to click to download and complete the TRAINING WAIVER.
URL:https://beararmstraining.com/event/2-day-nra-basics-of-pistol-shooting-august-8th-9th/
LOCATION:2-Day NRA Basics of Pistol Shooting\, 6317 Vint Hill Rd.\, Warrenton\, VA\, 20187\, United States
CATEGORIES:2-Day NRA Basics of Pistol Shooting
ATTACH;FMTTYPE=image/jpeg:https://beararmstraining.com/wp-content/uploads/2022/06/5-1.jpg
ORGANIZER;CN="James Pickering":MAILTO:james@beararmstraining.com
END:VEVENT
BEGIN:VEVENT
DTSTART;TZID=America/New_York:20230725T173000
DTEND;TZID=America/New_York:20230725T200000
DTSTAMP:20260424T163605
CREATED:20230525T174238Z
LAST-MODIFIED:20230525T174238Z
UID:10000157-1690306200-1690315200@beararmstraining.com
SUMMARY:2-Day Pistol Fundamentals- July 25th-26th
DESCRIPTION:Our 2-day Pistol Fundamentals Course with live fire is perfect for students new to firearms and busy during the weekend. The student will build a foundation for firearm safety and knowledge in this course. \nDay one: (5:30 pm-8:00 pm) The classroom portion (2-3 hours) covers pistol function\, safe firearm handling\, firearms storage\, ammunition selection\, and more. \nDay two: (5:30 pm-7:00 pm) The live fire portion of the course (1-2 hours). Students will then take their classroom knowledge onto a private range with a Certified Instructor. Completing this course qualifies you for a multi-state concealed carry permit issued by the State of Virginia. No previous firearm training is necessary\, and Bear Arms Training will provide all firearms and hearing protection included in purchasing this course. \n\nAmmo and the range fee are additional costs.\nParticipants need 50-100 rounds of ammo for the live fire portion of this course. Ammo is available at the range\, or students may bring their firearms and ammo.\nNo live ammo is permitted inside the classroom portion of the course.\nAll firearms must be cased and unloaded. NO EXCEPTIONS.\n\nThis is a 4-hour course with a maximum class size of 12 participants. Please remember to click to download and complete the TRAINING WAIVER.
URL:https://beararmstraining.com/event/2-day-pistol-fundamentals-july-25th-26th/
LOCATION:2-Day Pistol Fundamentals\, 6317 Vint Hill Rd.\, Warrenton\, VA\, 20187\, United States
CATEGORIES:2-Day Pistol Fundamentals
ATTACH;FMTTYPE=image/jpeg:https://beararmstraining.com/wp-content/uploads/2022/06/Pistol-Fundamentals-WITH-Live-Fire.jpg
ORGANIZER;CN="James Pickering":MAILTO:james@beararmstraining.com
END:VEVENT
BEGIN:VEVENT
DTSTART;TZID=America/New_York:20230711T173000
DTEND;TZID=America/New_York:20230711T200000
DTSTAMP:20260424T163605
CREATED:20230525T181308Z
LAST-MODIFIED:20230525T181502Z
UID:10000160-1689096600-1689105600@beararmstraining.com
SUMMARY:2-Day Ladies First Course- July 11th-12th
DESCRIPTION:Our 2-day Ladies Only Course is perfect for students new to firearms and busy during the weekend. The student will build a foundation for firearm safety and knowledge in this course. \nDay one: (5:30 pm-8:00 pm) The classroom portion (2-3 hours) covers pistol function\, safe firearm handling\, firearms storage\, ammunition selection\, and more. \nDay two: (5:30 pm-7:00 pm) The live fire portion of the course (1-2 hours). Students will then take their classroom knowledge onto a private range with a Certified Instructor. Completing this course qualifies you for a multi-state concealed carry permit issued by the State of Virginia. No previous firearm training is necessary\, and Bear Arms Training will provide all firearms and hearing protection included in purchasing this course. \n\nAmmo and the range fee are additional costs.\nParticipants need 50-100 rounds of ammo for the live fire portion of this course. Ammo is available at the range\, or students may bring their firearms and ammo.\nNo live ammo is permitted inside the classroom portion of the course.\nAll firearms must be cased and unloaded. NO EXCEPTIONS.\n\nThis is a 4-hour course with a maximum class size of 12 participants. Please remember to click to download and complete the TRAINING WAIVER.
URL:https://beararmstraining.com/event/2-day-ladies-first-course-july-11th-12th/
LOCATION:2-Day Ladies First Course\, 6317 Vint Hill Rd.\, Warrenton\, VA\, 20187\, United States
CATEGORIES:2-Day Ladies First Course
ATTACH;FMTTYPE=image/jpeg:https://beararmstraining.com/wp-content/uploads/2022/06/ladies-first-featured-image.jpg
ORGANIZER;CN="James Pickering":MAILTO:james@beararmstraining.com
END:VEVENT
BEGIN:VEVENT
DTSTART;TZID=America/New_York:20230627T173000
DTEND;TZID=America/New_York:20230627T200000
DTSTAMP:20260424T163605
CREATED:20230525T190756Z
LAST-MODIFIED:20230525T190756Z
UID:10000165-1687887000-1687896000@beararmstraining.com
SUMMARY:2-Day NRA Basics of Pistol Shooting- June 27th-28th
DESCRIPTION:Our 2-day NRA Basics of Pistol Shooting with live fire is perfect for students new to firearms and busy during the weekend. The student will build a foundation for firearm safety and knowledge in this course. Taught by a Certified NRA Instructor\, the student will participate in the live-fire training and nationally standardized shooting qualification. \nDay one: (5:30 pm-8:00 pm) The classroom portion (3 hours) covers pistol function\, safe firearm handling\, firearms storage\, ammunition selection\, and more. \nDay two: (5:30 pm-7:00 pm) The live fire portion of the course (1-2 hours). Students will then take their classroom knowledge onto a private range with a Certified Instructor. Completing this course qualifies you for a multi-state concealed carry permit issued by the State of Virginia. No previous firearm training is necessary\, and Bear Arms Training will provide all firearms and hearing protection included in purchasing this course. \n\nAmmo and the range fee are additional costs.\nParticipants need 50-100 rounds of ammo for the live fire portion of this course. Ammo is available at the range\, or students may bring their firearms and ammo.\nNo live ammo is permitted inside the classroom portion of the course.\nAll firearms must be cased and unloaded. NO EXCEPTIONS.\n\nThis is a 6-hour course with a maximum class size of 12 participants. Please remember to click to download and complete the TRAINING WAIVER. \n 
URL:https://beararmstraining.com/event/2-day-nra-basics-of-pistol-shooting-june-27th-28th/
LOCATION:2-Day NRA Basics of Pistol Shooting\, 6317 Vint Hill Rd.\, Warrenton\, VA\, 20187\, United States
CATEGORIES:2-Day NRA Basics of Pistol Shooting
ATTACH;FMTTYPE=image/jpeg:https://beararmstraining.com/wp-content/uploads/2022/06/5-1.jpg
ORGANIZER;CN="James Pickering":MAILTO:james@beararmstraining.com
END:VEVENT
BEGIN:VEVENT
DTSTART;TZID=America/New_York:20230613T173000
DTEND;TZID=America/New_York:20230613T200000
DTSTAMP:20260424T163605
CREATED:20230525T180819Z
LAST-MODIFIED:20230525T180850Z
UID:10000159-1686677400-1686686400@beararmstraining.com
SUMMARY:2-Day Ladies First Course- June 13th-14th
DESCRIPTION:Our 2-day Ladies Only Course is perfect for students new to firearms and busy during the weekend. The student will build a foundation for firearm safety and knowledge in this course. \nDay one: (5:30 pm-8:00 pm) The classroom portion (2-3 hours) covers pistol function\, safe firearm handling\, firearms storage\, ammunition selection\, and more. \nDay two: (5:30 pm-7:00 pm) The live fire portion of the course (1-2 hours). Students will then take their classroom knowledge onto a private range with a Certified Instructor. Completing this course qualifies you for a multi-state concealed carry permit issued by the State of Virginia. No previous firearm training is necessary\, and Bear Arms Training will provide all firearms and hearing protection included in purchasing this course. \n\nAmmo and the range fee are additional costs.\nParticipants need 50-100 rounds of ammo for the live fire portion of this course. Ammo is available at the range\, or students may bring their firearms and ammo.\nNo live ammo is permitted inside the classroom portion of the course.\nAll firearms must be cased and unloaded. NO EXCEPTIONS.\n\nThis is a 4-hour course with a maximum class size of 12 participants. Please remember to click to download and complete the TRAINING WAIVER.
URL:https://beararmstraining.com/event/2-day-ladies-first-course-june-13th-14/
LOCATION:2-Day Ladies First Course\, 6317 Vint Hill Rd.\, Warrenton\, VA\, 20187\, United States
CATEGORIES:2-Day Ladies First Course
ATTACH;FMTTYPE=image/jpeg:https://beararmstraining.com/wp-content/uploads/2022/06/ladies-first-featured-image.jpg
ORGANIZER;CN="James Pickering":MAILTO:james@beararmstraining.com
END:VEVENT
BEGIN:VEVENT
DTSTART;TZID=America/New_York:20230530T173000
DTEND;TZID=America/New_York:20230530T200000
DTSTAMP:20260424T163605
CREATED:20230525T172753Z
LAST-MODIFIED:20230525T173701Z
UID:10000156-1685467800-1685476800@beararmstraining.com
SUMMARY:2-Day Pistol Fundamentals- May 30th-31st
DESCRIPTION:Our 2-day Pistol Fundamentals Course with live fire is perfect for students new to firearms and busy during the weekend. The student will build a foundation for firearm safety and knowledge in this course. \nDay one: (5:30 pm-8:00 pm) The classroom portion (2-3 hours) covers pistol function\, safe firearm handling\, firearms storage\, ammunition selection\, and more. \nDay two: (5:30 pm-7:00 pm) The live fire portion of the course (1-2 hours). Students will then take their classroom knowledge onto a private range with a Certified Instructor. Completing this course qualifies you for a multi-state concealed carry permit issued by the State of Virginia. No previous firearm training is necessary\, and Bear Arms Training will provide all firearms and hearing protection included in purchasing this course. \n\nAmmo and the range fee are additional costs.\nParticipants need 50-100 rounds of ammo for the live fire portion of this course. Ammo is available at the range\, or students may bring their firearms and ammo.\nNo live ammo is permitted inside the classroom portion of the course.\nAll firearms must be cased and unloaded. NO EXCEPTIONS.\n\nThis is a 4-hour course with a maximum class size of 12 participants. Please remember to click to download and complete the TRAINING WAIVER.
URL:https://beararmstraining.com/event/2-day-pistol-fundamentals-may-30th-31st/
LOCATION:2-Day Pistol Fundamentals\, 6317 Vint Hill Rd.\, Warrenton\, VA\, 20187\, United States
CATEGORIES:2-Day Pistol Fundamentals
ATTACH;FMTTYPE=image/jpeg:https://beararmstraining.com/wp-content/uploads/2022/06/Pistol-Fundamentals-WITH-Live-Fire.jpg
ORGANIZER;CN="James Pickering":MAILTO:james@beararmstraining.com
END:VEVENT
END:VCALENDAR