BEGIN:VCALENDAR
VERSION:2.0
PRODID:-//Bear Arms Training - ECPv6.15.20//NONSGML v1.0//EN
CALSCALE:GREGORIAN
METHOD:PUBLISH
X-WR-CALNAME:Bear Arms Training
X-ORIGINAL-URL:https://beararmstraining.com
X-WR-CALDESC:Events for Bear Arms Training
REFRESH-INTERVAL;VALUE=DURATION:PT1H
X-Robots-Tag:noindex
X-PUBLISHED-TTL:PT1H
BEGIN:VTIMEZONE
TZID:America/New_York
BEGIN:DAYLIGHT
TZOFFSETFROM:-0500
TZOFFSETTO:-0400
TZNAME:EDT
DTSTART:20250309T070000
END:DAYLIGHT
BEGIN:STANDARD
TZOFFSETFROM:-0400
TZOFFSETTO:-0500
TZNAME:EST
DTSTART:20251102T060000
END:STANDARD
BEGIN:DAYLIGHT
TZOFFSETFROM:-0500
TZOFFSETTO:-0400
TZNAME:EDT
DTSTART:20260308T070000
END:DAYLIGHT
BEGIN:STANDARD
TZOFFSETFROM:-0400
TZOFFSETTO:-0500
TZNAME:EST
DTSTART:20261101T060000
END:STANDARD
BEGIN:DAYLIGHT
TZOFFSETFROM:-0500
TZOFFSETTO:-0400
TZNAME:EDT
DTSTART:20270314T070000
END:DAYLIGHT
BEGIN:STANDARD
TZOFFSETFROM:-0400
TZOFFSETTO:-0500
TZNAME:EST
DTSTART:20271107T060000
END:STANDARD
END:VTIMEZONE
BEGIN:VEVENT
DTSTART;TZID=America/New_York:20260509T090000
DTEND;TZID=America/New_York:20260509T150000
DTSTAMP:20260423T065815
CREATED:20251211T094812Z
LAST-MODIFIED:20260403T132936Z
UID:10000270-1778317200-1778338800@beararmstraining.com
SUMMARY:Ladies First Course\, Saturuday May 9th\, 2026
DESCRIPTION:The Ladies First Course is a women’s concealed carry and defensive handgun training built for real life—helping you feel safe\, think clearly\, and stay in control without confusion or wasted time. Designed for beginners through intermediate shooters\, this women’s handgun class focuses on firearm safety\, pistol fundamentals\, and practical self-defense skills so you can respond with confidence—not hesitation.  \nYou’ll train in a supportive\, women-focused environment with hands-on coaching\, live-fire practice\, and clear guidance on choosing and using the right firearm for your needs. \nFirearms and hearing protection are provided\, making it easy to start—even if you don’t own a gun. You’ll also be guided through essential gear and setup\, including eye protection\, ammunition\, holsters\, and proper equipment\, so you leave fully prepared to continue training. \nRequired Equipment: \n\nReliable handgun (semi-automatic or revolver)\nMinimum of 2 magazines (for semi-automatics)\nQuality holster (if applicable)\nEye protection\nHearing protection (provided if needed)\n150–200 rounds of factory ammunition\nSturdy belt for support (recommended)\n\nIf you’re searching for a concealed carry class for women near you\, a beginner handgun course for self-defense\, or a women’s firearm safety and training program\, the Ladies First Course gives you clear\, practical instruction and real-world confidence to protect yourself and those you love. \nRead our CANCELLATION POLICY.
URL:https://beararmstraining.com/event/ladies-first-course-saturuday-may-9th-2026/
LOCATION:Ladies First\, 6317 Vint Hill Rd.\, Warrenton\, VA\, 20187\, United States
CATEGORIES:Ladies First
ATTACH;FMTTYPE=image/jpeg:https://beararmstraining.com/wp-content/uploads/2026/04/LADIES-FIRST-COURSE.jpg
ORGANIZER;CN="Nathan Bearfield":MAILTO:instructor@beararmstraining.com
END:VEVENT
BEGIN:VEVENT
DTSTART;TZID=America/New_York:20260620T090000
DTEND;TZID=America/New_York:20260620T150000
DTSTAMP:20260423T065815
CREATED:20260403T133323Z
LAST-MODIFIED:20260403T133323Z
UID:10000280-1781946000-1781967600@beararmstraining.com
SUMMARY:Ladies First Course: Saturday\, June 20th\, 2026
DESCRIPTION:The Ladies First Course is a women’s concealed carry and defensive handgun training built for real life—helping you feel safe\, think clearly\, and stay in control without confusion or wasted time. Designed for beginners through intermediate shooters\, this women’s handgun class focuses on firearm safety\, pistol fundamentals\, and practical self-defense skills so you can respond with confidence—not hesitation.  \nYou’ll train in a supportive\, women-focused environment with hands-on coaching\, live-fire practice\, and clear guidance on choosing and using the right firearm for your needs. \nFirearms and hearing protection are provided\, making it easy to start—even if you don’t own a gun. You’ll also be guided through essential gear and setup\, including eye protection\, ammunition\, holsters\, and proper equipment\, so you leave fully prepared to continue training. \nRequired Equipment: \n\nReliable handgun (semi-automatic or revolver)\nMinimum of 2 magazines (for semi-automatics)\nQuality holster (if applicable)\nEye protection\nHearing protection (provided if needed)\n150–200 rounds of factory ammunition\nSturdy belt for support (recommended)\n\nIf you’re searching for a concealed carry class for women near you\, a beginner handgun course for self-defense\, or a women’s firearm safety and training program\, the Ladies First Course gives you clear\, practical instruction and real-world confidence to protect yourself and those you love.
URL:https://beararmstraining.com/event/ladies-first-course-saturday-june-20th-2026/
LOCATION:Ladies First\, 6317 Vint Hill Rd.\, Warrenton\, VA\, 20187\, United States
CATEGORIES:Ladies First
ATTACH;FMTTYPE=image/jpeg:https://beararmstraining.com/wp-content/uploads/2026/04/LADIES-FIRST-COURSE.jpg
ORGANIZER;CN="Nathan Bearfield":MAILTO:instructor@beararmstraining.com
END:VEVENT
BEGIN:VEVENT
DTSTART;VALUE=DATE:20260627
DTEND;VALUE=DATE:20260629
DTSTAMP:20260423T065815
CREATED:20260402T105545Z
LAST-MODIFIED:20260402T110029Z
UID:10000279-1782518400-1782691199@beararmstraining.com
SUMMARY:Deductive Pistolcraft w/ Tactical Advantage- June 27th-28th\, 2026
DESCRIPTION:Deductive Pistolcraft Coiurse. Train with purpose. Perform with confidence. \nBear Arms Training is proud to host Christopher Bean—Co-Director of Active Self Protection and a mentor to me personally—for an exclusive\, results-driven concealed carry training experience. This is your opportunity to learn directly from one of the most sought-after instructors in the country. \nYou’ll develop real-world proficiency through a proven\, logical approach that helps you identify your strengths\, eliminate inefficiencies\, and build a personalized system for grip\, trigger control\, sighting\, and decision-making under pressure. Every rep is backed by measurable standards so you can see real progress—not guesswork. \nThen you’ll step into The Crucible\, a high-intensity performance challenge designed to test your focus\, discipline\, and execution when it matters most. Spots are limited—secure yours now and train at a higher level. \n 
URL:https://beararmstraining.com/event/deductive-pistolcraft-w-tactical-advantage-june-27th-28th-2026/
LOCATION:HOST\, 5510 Savannah Branch Rd.\, Bealton\, VA\, 22712\, United States
CATEGORIES:Hosted Event
ATTACH;FMTTYPE=image/png:https://beararmstraining.com/wp-content/uploads/2026/04/Deductive-Bealton-Virginia.png
ORGANIZER;CN="Nathan Bearfield":MAILTO:instructor@beararmstraining.com
END:VEVENT
BEGIN:VEVENT
DTSTART;VALUE=DATE:20260711
DTEND;VALUE=DATE:20260713
DTSTAMP:20260423T065815
CREATED:20251211T103749Z
LAST-MODIFIED:20251211T103900Z
UID:10000273-1783728000-1783900799@beararmstraining.com
SUMMARY:American Gas Gun: JBS Training Group w/ Mark Smith- July 11-12\, 2026
DESCRIPTION:JBS Training Group’s 2-Day American Gas Gun is designed with the intention of correcting flaws in mechanics\, manipulations\, marksmanship\, movement\, and processing. This is not a beginner’s course. Attendees should have basic knowledge of weapon safety/handling\, and at minimum\, be able to hit the A zone of a full-sized IPSC silhouette at 25 yards with no time standard. Students will leave with the tools necessary to continue their journey on being the best rifle shooter they can be. \nTopics Covered \n \n\nSafety and handling\nGear selection\nGear set up\nDry fire practice and how to maximize return when practicing\nZeroing\nAiming and the breakdown of the relationship between sight alignment and sight picture\nReloading\nManaging recoil\nTarget transitions and processing\nThe presentation\nMarksmanship (Trigger manipulation in sync with the optic)\nMental discipline applied to the gun\nSpeed and where it comes from\nShot calling\nMechanics/Manipulations\nMovement\n\nGear Required \n\nRecommended: 1000 rifle rounds\nCompetition/Duty grade rifle (No bolt action/lever action)\nMinimum of 3 magazines\nPouches for magazines\nEye and ear protection (Electronic Ears Preferred)\nCompetition/Duty grade Sling (1 point or 2 point preferred)\nHydration and snacks for the day\nNotebook and writing utensil\nRain gear as applicable\nKnee and elbow pads if needed\nLubrication for weapon system\n\nCANCELLATION POLICY \nPayment must be made in full for desired training sessions. Lessons will not be refunded unless JBS Training Group needs to cancel for an unforeseen reason.
URL:https://beararmstraining.com/event/american-gas-gun-jbs-training-w-mark-smith-july-11-12-2026/
LOCATION:HOST\, 5510 Savannah Branch Rd.\, Bealton\, VA\, 22712\, United States
CATEGORIES:Hosted Event
ATTACH;FMTTYPE=image/jpeg:https://beararmstraining.com/wp-content/uploads/2025/12/IMG_7175.jpg
ORGANIZER;CN="Nathan Bearfield":MAILTO:instructor@beararmstraining.com
END:VEVENT
BEGIN:VEVENT
DTSTART;TZID=America/New_York:20260718T090000
DTEND;TZID=America/New_York:20260718T170000
DTSTAMP:20260423T065815
CREATED:20260403T135048Z
LAST-MODIFIED:20260403T135048Z
UID:10000282-1784365200-1784394000@beararmstraining.com
SUMMARY:Defensive Pistol & Concealed Carry Applications
DESCRIPTION:If you own a firearm—or are thinking about carrying—but aren’t sure what to do in a real situation\, this course is for you. \nThe Defensive Pistol & The Concealed Carry Way is a beginner-intermediate friendly concealed carry and defensive handgun training designed to help you move from uncertainty to clarity so you can stay aware\, make sound decisions\, and respond with confidence. \nBefore this course\, many people feel unsure about use-of-force laws\, situational awareness\, and how they would react under pressure. After\, you’ll understand how to avoid threats\, de-escalate conflict\, and apply concealed carry principles responsibly\, backed by practical\, real-world training and Virginia legal guidance. \nYou’ll train with hands-on coaching\, live-fire practice\, and clear instruction on everyday carry setup\, firearm safety\, and decision-making\, so you leave prepared—not guessing. Firearms and hearing protection are available if needed to make getting started simple. \nRequired Equipment: \n\nReliable handgun (semi-automatic or revolver)\nMinimum of 2 magazines (for semi-automatics)\nQuality holster (if applicable)\nEye protection\nHearing protection (available if needed)\n150–200 rounds of factory ammunition (minimum)\nSturdy belt for support (recommended)\n\nIf you’re looking for a concealed carry class near you or a beginner-intermediate handgun course for self-defense\, this training gives you the clarity and real-world skills to carry responsibly and stay in control.
URL:https://beararmstraining.com/event/defensive-pistol-concealed-carry-applications/
LOCATION:Defensive Pistol 1\, Vint Hill Rd.\, Warrenton\, VA\, 20187\, United States
CATEGORIES:Defensive Pistol & Concealed Carry Applications
ATTACH;FMTTYPE=image/jpeg:https://beararmstraining.com/wp-content/uploads/2026/04/defensive-pistol.jpg
ORGANIZER;CN="Nathan Bearfield":MAILTO:instructor@beararmstraining.com
END:VEVENT
BEGIN:VEVENT
DTSTART;TZID=America/New_York:20260815T090000
DTEND;TZID=America/New_York:20260815T120000
DTSTAMP:20260423T065815
CREATED:20260403T135833Z
LAST-MODIFIED:20260403T135833Z
UID:10000283-1786784400-1786795200@beararmstraining.com
SUMMARY:Defender Ready Course (Classroom Only)- Saturday\, August 15th\, 2026
DESCRIPTION:If you have a firearm—or are thinking about getting one—but aren’t sure how to use it safely or what to do in a real situation\, this course is your starting point. \nDefender Ready is a beginner-friendly firearm safety and self-defense training designed to help you build awareness\, make better decisions\, and feel more in control of your personal protection. \nBefore this course\, many people feel uncertain about safe handling\, home defense\, and how to respond under pressure. After\, you’ll understand how to safely manage a firearm\, think through real-world situations\, and take responsible steps toward protecting yourself and your home. \nThis 3-hour course focuses on practical\, real-world application\, not just theory. You’ll learn the foundations of firearm safety\, environmental and personal awareness\, and defensive mindset in a structured\, supportive environment with clear instruction and no intimidation. \nRequired Equipment: \n\nNotepad\nOpen mind\nLots of “stupid” questions (seriously—ask them)\n\nIf you’re looking for a beginner firearm safety course\, intro to self-defense training\, or a starting point for concealed carry\, Defender Ready gives you the clarity and confidence to take your first step the right way.
URL:https://beararmstraining.com/event/defender-ready-course-classroom-only-saturday-august-15th-2026/
LOCATION:Defensive Pistol 1\, Vint Hill Rd.\, Warrenton\, VA\, 20187\, United States
CATEGORIES:Defender Ready
ATTACH;FMTTYPE=image/jpeg:https://beararmstraining.com/wp-content/uploads/2026/04/DEFENDER-READY.jpg
ORGANIZER;CN="Nathan Bearfield":MAILTO:instructor@beararmstraining.com
END:VEVENT
BEGIN:VEVENT
DTSTART;TZID=America/New_York:20260815T140000
DTEND;TZID=America/New_York:20260815T160000
DTSTAMP:20260423T065815
CREATED:20260404T112438Z
LAST-MODIFIED:20260404T112438Z
UID:10000285-1786802400-1786809600@beararmstraining.com
SUMMARY:2-Hour Dry Fire Workshop (Women's Class)
DESCRIPTION:Confidence & Control: Women’s Dry Fire Workshop \nIn this 2-hour\, women-only workshop\, you’ll learn to safely handle your firearm\, improve accuracy\, and gain the confidence to protect yourself and those you love—all in a supportive\, no-pressure environment. No experience needed. \nWhat to Bring: \n\nSafe\, unloaded pistol\nHolster\nSturdy belt\nAt least two magazines\nMinimum of one magazine holster\nComfortable clothing\n\nTake the first step toward feeling confident\, capable\, and in control. No AMMO. 
URL:https://beararmstraining.com/event/2-hour-dry-fire-workshop-womens-class/
LOCATION:Intro to Firearms\, Vint Hill Rd\, Warrenton\, VA\, 20187\, United States
CATEGORIES:Dry Fire Workshop
ATTACH;FMTTYPE=image/jpeg:https://beararmstraining.com/wp-content/uploads/2026/04/Dry-Fire-WORKSHOP.jpg
END:VEVENT
BEGIN:VEVENT
DTSTART;TZID=America/New_York:20260905T090000
DTEND;TZID=America/New_York:20260905T170000
DTSTAMP:20260423T065815
CREATED:20260403T141516Z
LAST-MODIFIED:20260403T141516Z
UID:10000284-1788598800-1788627600@beararmstraining.com
SUMMARY:BAT Instructor Development- Saturday\, September 5th\, 2026
DESCRIPTION:BAT INSTRUCTOR DEVELOPMENT(Intermediate to Advanced Firearms Instructor Training Course) \nIf you can shoot but struggle to explain\, coach\, or structure a class—this course is built for you. BAT Instructor Development is a firearms instructor training course designed to help new and experienced instructors improve how they teach\, communicate\, and run effective training. Whether you’re certified or preparing to teach\, this course helps you move from knowing the material to delivering it with clarity and purpose. \nBefore this course\, many instructors feel unsure about how to organize a class\, keep students engaged\, diagnose shooter issues\, or communicate effectively under pressure. After\, you’ll understand how to structure lessons\, coach students through problems\, and deliver training that is clear\, safe\, and results-driven. \nThis 8-hour course combines adult learning principles\, curriculum design\, coaching methods\, and live-fire application so you can apply what you teach in real time. You’ll learn how to break down complex skills\, adapt to different learning styles\, give effective feedback\, and guide students through defensive shooting safely and professionally. \nRequired Equipment: \n\nReliable firearm\n250 rounds of ammunition\nHolster (No Serpa-style holsters)\nMagazine pouch (minimum of 2 magazines)\nEye and ear protection\nYour current range bag\n\nIf you’re looking for a firearms instructor development course\, advanced instructor training\, or coaching and curriculum design for firearms instructors\, this program gives you the tools to teach with confidence\, connect with students\, and deliver higher-quality training.
URL:https://beararmstraining.com/event/bat-instructor-development-saturday-september-5th-2026/
LOCATION:BAT Instructor\, 6317 Vint Hill Rd.\, Warrenton\, VA\, 20187\, United States
CATEGORIES:BAT Instructor & Development
ATTACH;FMTTYPE=image/jpeg:https://beararmstraining.com/wp-content/uploads/2026/04/BAT-INSTRUCTOR-DEVELOPMENT.jpg
ORGANIZER;CN="Nathan Bearfield":MAILTO:instructor@beararmstraining.com
END:VEVENT
BEGIN:VEVENT
DTSTART;TZID=America/New_York:20260926T090000
DTEND;TZID=America/New_York:20260926T150000
DTSTAMP:20260423T065815
CREATED:20260403T133556Z
LAST-MODIFIED:20260403T133556Z
UID:10000281-1790413200-1790434800@beararmstraining.com
SUMMARY:Ladies First Course: Saturday\, September 26th\, 2026
DESCRIPTION:The Ladies First Course is a women’s concealed carry and defensive handgun training built for real life—helping you feel safe\, think clearly\, and stay in control without confusion or wasted time. Designed for beginners through intermediate shooters\, this women’s handgun class focuses on firearm safety\, pistol fundamentals\, and practical self-defense skills so you can respond with confidence—not hesitation.  \nYou’ll train in a supportive\, women-focused environment with hands-on coaching\, live-fire practice\, and clear guidance on choosing and using the right firearm for your needs. \nFirearms and hearing protection are provided\, making it easy to start—even if you don’t own a gun. You’ll also be guided through essential gear and setup\, including eye protection\, ammunition\, holsters\, and proper equipment\, so you leave fully prepared to continue training. \nRequired Equipment: \n\nReliable handgun (semi-automatic or revolver)\nMinimum of 2 magazines (for semi-automatics)\nQuality holster (if applicable)\nEye protection\nHearing protection (provided if needed)\n150–200 rounds of factory ammunition\nSturdy belt for support (recommended)\n\nIf you’re searching for a concealed carry class for women near you\, a beginner handgun course for self-defense\, or a women’s firearm safety and training program\, the Ladies First Course gives you clear\, practical instruction and real-world confidence to protect yourself and those you love.
URL:https://beararmstraining.com/event/ladies-first-course-saturday-september-26th-2026/
LOCATION:Ladies First\, 6317 Vint Hill Rd.\, Warrenton\, VA\, 20187\, United States
CATEGORIES:Ladies First
ATTACH;FMTTYPE=image/jpeg:https://beararmstraining.com/wp-content/uploads/2026/04/LADIES-FIRST-COURSE.jpg
ORGANIZER;CN="Nathan Bearfield":MAILTO:instructor@beararmstraining.com
END:VEVENT
END:VCALENDAR